BEGIN:VCALENDAR
VERSION:2.0
PRODID:-//Olney Public Library - ECPv6.15.20//NONSGML v1.0//EN
CALSCALE:GREGORIAN
METHOD:PUBLISH
X-ORIGINAL-URL:https://www.olneypubliclibrary.org
X-WR-CALDESC:Events for Olney Public Library
REFRESH-INTERVAL;VALUE=DURATION:PT1H
X-Robots-Tag:noindex
X-PUBLISHED-TTL:PT1H
BEGIN:VTIMEZONE
TZID:America/Chicago
BEGIN:DAYLIGHT
TZOFFSETFROM:-0600
TZOFFSETTO:-0500
TZNAME:CDT
DTSTART:20250309T080000
END:DAYLIGHT
BEGIN:STANDARD
TZOFFSETFROM:-0500
TZOFFSETTO:-0600
TZNAME:CST
DTSTART:20251102T070000
END:STANDARD
BEGIN:DAYLIGHT
TZOFFSETFROM:-0600
TZOFFSETTO:-0500
TZNAME:CDT
DTSTART:20260308T080000
END:DAYLIGHT
BEGIN:STANDARD
TZOFFSETFROM:-0500
TZOFFSETTO:-0600
TZNAME:CST
DTSTART:20261101T070000
END:STANDARD
BEGIN:DAYLIGHT
TZOFFSETFROM:-0600
TZOFFSETTO:-0500
TZNAME:CDT
DTSTART:20270314T080000
END:DAYLIGHT
BEGIN:STANDARD
TZOFFSETFROM:-0500
TZOFFSETTO:-0600
TZNAME:CST
DTSTART:20271107T070000
END:STANDARD
END:VTIMEZONE
BEGIN:VEVENT
DTSTART;TZID=America/Chicago:20260402T173000
DTEND;TZID=America/Chicago:20260402T183000
DTSTAMP:20260423T100945
CREATED:20260313T155141Z
LAST-MODIFIED:20260313T155141Z
UID:15717-1775151000-1775154600@www.olneypubliclibrary.org
SUMMARY:"The Road was Home" by Jamie Poorman 4/2 5:30pm
DESCRIPTION:Join us at the Olney Public Library for a fascinating historical presentation by librarian and Illinois Road Scholar presenter Jamie Poorman. \nIn this program\, Poorman will explore the history of Romani Americans who traveled through Central Illinois in the late 1800s. Through stories and historical research\, attendees will learn about the lives of these families\, their travels\, and their experiences in the region. \n“The Road Was Home” highlights an important and often overlooked part of local history\, offering insight into the cultural traditions and journeys of Romani communities in Illinois. \nThis engaging presentation is perfect for anyone interested in regional history\, cultural heritage\, and historical storytelling.
URL:https://www.olneypubliclibrary.org/event/the-road-was-home-by-jamie-poorman-4-2-530pm/
LOCATION:Olney Public Library\, 400 W Main St.\, Olney\, IL\, 62450\, United States
CATEGORIES:Author Talk,Event
ATTACH;FMTTYPE=image/jpeg:https://www.olneypubliclibrary.org/wp-content/uploads/2026/03/the-road-was-home-jamie-poorman.jpg
ORGANIZER;CN="Olney Public Library Staff":MAILTO:director@olneypubliclibrary.org
END:VEVENT
END:VCALENDAR