BEGIN:VCALENDAR
VERSION:2.0
PRODID:-//Olney Public Library - ECPv6.15.20//NONSGML v1.0//EN
CALSCALE:GREGORIAN
METHOD:PUBLISH
X-ORIGINAL-URL:https://www.olneypubliclibrary.org
X-WR-CALDESC:Events for Olney Public Library
REFRESH-INTERVAL;VALUE=DURATION:PT1H
X-Robots-Tag:noindex
X-PUBLISHED-TTL:PT1H
BEGIN:VTIMEZONE
TZID:America/Chicago
BEGIN:DAYLIGHT
TZOFFSETFROM:-0600
TZOFFSETTO:-0500
TZNAME:CDT
DTSTART:20240310T080000
END:DAYLIGHT
BEGIN:STANDARD
TZOFFSETFROM:-0500
TZOFFSETTO:-0600
TZNAME:CST
DTSTART:20241103T070000
END:STANDARD
BEGIN:DAYLIGHT
TZOFFSETFROM:-0600
TZOFFSETTO:-0500
TZNAME:CDT
DTSTART:20250309T080000
END:DAYLIGHT
BEGIN:STANDARD
TZOFFSETFROM:-0500
TZOFFSETTO:-0600
TZNAME:CST
DTSTART:20251102T070000
END:STANDARD
BEGIN:DAYLIGHT
TZOFFSETFROM:-0600
TZOFFSETTO:-0500
TZNAME:CDT
DTSTART:20260308T080000
END:DAYLIGHT
BEGIN:STANDARD
TZOFFSETFROM:-0500
TZOFFSETTO:-0600
TZNAME:CST
DTSTART:20261101T070000
END:STANDARD
END:VTIMEZONE
BEGIN:VEVENT
DTSTART;TZID=America/Chicago:20250702T140000
DTEND;TZID=America/Chicago:20250702T150000
DTSTAMP:20260424T072542
CREATED:20250505T221716Z
LAST-MODIFIED:20250505T221716Z
UID:4598-1751464800-1751468400@www.olneypubliclibrary.org
SUMMARY:Level It Up - Story Hour July 2nd
DESCRIPTION:Join us for a Level It Up story hour series.
URL:https://www.olneypubliclibrary.org/event/level-it-up-story-hour-july-2nd/
LOCATION:Olney Public Library\, 400 W Main St.\, Olney\, IL\, 62450\, United States
CATEGORIES:Event,Story Hour
ATTACH;FMTTYPE=image/jpeg:https://www.olneypubliclibrary.org/wp-content/uploads/2025/05/summerreading2025.jpg
ORGANIZER;CN="Olney Public Library Staff":MAILTO:director@olneypubliclibrary.org
END:VEVENT
BEGIN:VEVENT
DTSTART;TZID=America/Chicago:20250709T140000
DTEND;TZID=America/Chicago:20250709T150000
DTSTAMP:20260424T072542
CREATED:20250505T222431Z
LAST-MODIFIED:20250505T222431Z
UID:4600-1752069600-1752073200@www.olneypubliclibrary.org
SUMMARY:Level It Up - Story Hour July 9th -  Blue and Red Sister Pumps Program
DESCRIPTION:Join us for a Level It Up story hour series. \nThis week we are located at the Olney Community Building
URL:https://www.olneypubliclibrary.org/event/level-it-up-story-hour-july-9th-blue-and-red-sister-pumps-program/
LOCATION:Olney City Park Community Building
CATEGORIES:Event,Story Hour
ATTACH;FMTTYPE=image/jpeg:https://www.olneypubliclibrary.org/wp-content/uploads/2025/05/summerreading2025.jpg
ORGANIZER;CN="Olney Public Library Staff":MAILTO:director@olneypubliclibrary.org
END:VEVENT
BEGIN:VEVENT
DTSTART;TZID=America/Chicago:20250716T140000
DTEND;TZID=America/Chicago:20250716T150000
DTSTAMP:20260424T072542
CREATED:20250505T222714Z
LAST-MODIFIED:20250505T222714Z
UID:4602-1752674400-1752678000@www.olneypubliclibrary.org
SUMMARY:July 16th -  End of Yr. Celebration - Absolute Science
DESCRIPTION:Join us for a Level It Up story hour series. \nThis week we are located at the Olney Community Building
URL:https://www.olneypubliclibrary.org/event/july-16th-end-of-yr-celebration-absolute-science/
LOCATION:Olney City Park Community Building
CATEGORIES:Event,Story Hour
ATTACH;FMTTYPE=image/jpeg:https://www.olneypubliclibrary.org/wp-content/uploads/2025/05/summerreading2025.jpg
ORGANIZER;CN="Olney Public Library Staff":MAILTO:director@olneypubliclibrary.org
END:VEVENT
END:VCALENDAR