BEGIN:VCALENDAR
VERSION:2.0
PRODID:-//Olney Public Library - ECPv6.15.20//NONSGML v1.0//EN
CALSCALE:GREGORIAN
METHOD:PUBLISH
X-ORIGINAL-URL:https://www.olneypubliclibrary.org
X-WR-CALDESC:Events for Olney Public Library
REFRESH-INTERVAL;VALUE=DURATION:PT1H
X-Robots-Tag:noindex
X-PUBLISHED-TTL:PT1H
BEGIN:VTIMEZONE
TZID:America/Chicago
BEGIN:DAYLIGHT
TZOFFSETFROM:-0600
TZOFFSETTO:-0500
TZNAME:CDT
DTSTART:20240310T080000
END:DAYLIGHT
BEGIN:STANDARD
TZOFFSETFROM:-0500
TZOFFSETTO:-0600
TZNAME:CST
DTSTART:20241103T070000
END:STANDARD
BEGIN:DAYLIGHT
TZOFFSETFROM:-0600
TZOFFSETTO:-0500
TZNAME:CDT
DTSTART:20250309T080000
END:DAYLIGHT
BEGIN:STANDARD
TZOFFSETFROM:-0500
TZOFFSETTO:-0600
TZNAME:CST
DTSTART:20251102T070000
END:STANDARD
BEGIN:DAYLIGHT
TZOFFSETFROM:-0600
TZOFFSETTO:-0500
TZNAME:CDT
DTSTART:20260308T080000
END:DAYLIGHT
BEGIN:STANDARD
TZOFFSETFROM:-0500
TZOFFSETTO:-0600
TZNAME:CST
DTSTART:20261101T070000
END:STANDARD
END:VTIMEZONE
BEGIN:VEVENT
DTSTART;TZID=America/Chicago:20251008T173000
DTEND;TZID=America/Chicago:20251008T183000
DTSTAMP:20260424T021501
CREATED:20250908T174858Z
LAST-MODIFIED:20250908T182053Z
UID:4695-1759944600-1759948200@www.olneypubliclibrary.org
SUMMARY:Horticulture Series: Vegetable Garden Prep Oct. 8th 5:30pm
DESCRIPTION:Get your garden ready for next season at the Olney Public Library! 🌱 On Wednesday\, October 8th at 5:30pm\, join us for our Fall Horticulture Series: Vegetable Garden Prep\, presented by the Illinois Extension. Learn the best techniques for cleaning up\, preparing soil\, and protecting your vegetable beds before winter sets in—so you can set yourself up for a bountiful harvest in the spring. This free program is open to all gardening enthusiasts! \n  \nLocation: Illinois Extension
URL:https://www.olneypubliclibrary.org/event/horticulture-series-vegetable-garden-prep-oct-8th-530pm/
LOCATION:Olney Central College Library 305 NW Street\, 305 North West St\, Olney
CATEGORIES:Central College Library Events,Event
ATTACH;FMTTYPE=image/jpeg:https://www.olneypubliclibrary.org/wp-content/uploads/2025/09/horticulture-series-1-fall-2025-002.jpg
ORGANIZER;CN="Olney Public Library Staff":MAILTO:director@olneypubliclibrary.org
END:VEVENT
BEGIN:VEVENT
DTSTART;TZID=America/Chicago:20251011T130000
DTEND;TZID=America/Chicago:20251011T150000
DTSTAMP:20260424T021501
CREATED:20250908T172240Z
LAST-MODIFIED:20250912T185929Z
UID:4673-1760187600-1760194800@www.olneypubliclibrary.org
SUMMARY:Create a Fabric Pumpkin Art Class Sat. 10/11 1-3pm - Class is Full
DESCRIPTION:Create a Fabric PumpkinGet crafty this fall at the Olney Public Library! 🎃 Join us on Saturday\, October 11th from 1–3pm for a hands-on workshop led by an instructor from the Macoupin Art Collective\, where you’ll create two fabric pumpkins in different sizes to take home. This fun\, creative project is perfect for adding a cozy\, handmade touch to your autumn décor. \nThe event is free\, but pre-registration is required to reserve your spot. Sign up today at olneypubliclibrary.org \nClass is Full.\nIf you would like to hear about our upcoming events follow us on Facebook https://www.facebook.com/olneypubliclibrary/
URL:https://www.olneypubliclibrary.org/event/create-a-fabric-pumpkin-art-class-sat-10-11-1-3pm/
LOCATION:Olney Public Library\, 400 W Main St.\, Olney\, IL\, 62450\, United States
CATEGORIES:Event
ATTACH;FMTTYPE=image/jpeg:https://www.olneypubliclibrary.org/wp-content/uploads/2025/09/fabric-pumpkin-2025.jpg
ORGANIZER;CN="Olney Public Library Staff":MAILTO:director@olneypubliclibrary.org
END:VEVENT
BEGIN:VEVENT
DTSTART;TZID=America/Chicago:20251016T160000
DTEND;TZID=America/Chicago:20251016T180000
DTSTAMP:20260424T021501
CREATED:20250912T190755Z
LAST-MODIFIED:20250916T233823Z
UID:4742-1760630400-1760637600@www.olneypubliclibrary.org
SUMMARY:3D Print Lab
DESCRIPTION:Curious about 3D printing? Reserve one of four daily time slots to design in Tinkercad.com on a library computer\, then print your creation on our library’s 3D printer with help from staff. This hands-on program is perfect for beginners—bring your idea\, build your model\, and we’ll guide you through sending it to the printer. \nOnly 4 spots are available each day\, so please register to save your time. Ages 8+. \nClick to View Available Dates
URL:https://www.olneypubliclibrary.org/event/3d-print-lab/
LOCATION:Olney Public Library\, 400 W Main St.\, Olney\, IL\, 62450\, United States
CATEGORIES:3D Print Lab,Event
ATTACH;FMTTYPE=image/jpeg:https://www.olneypubliclibrary.org/wp-content/uploads/2025/09/Copy-of-3D-Print-Lab-e1758065143942.jpg
ORGANIZER;CN="Olney Public Library Staff":MAILTO:director@olneypubliclibrary.org
END:VEVENT
BEGIN:VEVENT
DTSTART;TZID=America/Chicago:20251020T173000
DTEND;TZID=America/Chicago:20251020T183000
DTSTAMP:20260424T021501
CREATED:20250908T174527Z
LAST-MODIFIED:20250908T181346Z
UID:4693-1760981400-1760985000@www.olneypubliclibrary.org
SUMMARY:Horticulture Series: Lawn and Tree Care 10/20 5:30
DESCRIPTION:Get your yard ready for the changing seasons at the Olney Public Library! 🍂 Join us on Monday\, October 20th at 5:30pm for our Fall Horticulture Series: Lawn and Tree Care\, presented by the Illinois Extension. Learn the best fall practices for maintaining healthy lawns\, preparing trees for winter\, and setting up your landscape for success in the spring. This free program is open to the public\, and all gardening enthusiasts are welcome! \n  \nLocation: Illinois Extension
URL:https://www.olneypubliclibrary.org/event/horticulture-series-lawn-and-tree-care-10-20-530/
LOCATION:Olney Central College Library 305 NW Street\, 305 North West St\, Olney
CATEGORIES:Central College Library Events,Event
ATTACH;FMTTYPE=image/jpeg:https://www.olneypubliclibrary.org/wp-content/uploads/2025/09/horticulture-series-2-fall-2025.jpeg
ORGANIZER;CN="Olney Public Library Staff":MAILTO:director@olneypubliclibrary.org
END:VEVENT
BEGIN:VEVENT
DTSTART;TZID=America/Chicago:20251029T163000
DTEND;TZID=America/Chicago:20251029T173000
DTSTAMP:20260424T021501
CREATED:20250908T173837Z
LAST-MODIFIED:20250908T173849Z
UID:4688-1761755400-1761759000@www.olneypubliclibrary.org
SUMMARY:Mollie's War: History of the Women's Army Corps. OCT 29th 4:30pm
DESCRIPTION:👩‍✈️✨ Join us at the Olney Public Library for a powerful program:Mollie’s War: History of the Women’s Army Corps📅 Tuesday\, October 29th at 4:30pm \nAuthor Cyndee Schaffer will share her mother’s WWII stories and the incredible history of the Women’s Army Corps\, exploring how these trailblazing women shaped future generations in the military. \nDon’t miss this inspiring look at women’s voices from the front lines of history! \nFree event. \n#OlneyPublicLibrary #WWIIHistory #WomensArmyCorps #MolliesWar #LocalEvents
URL:https://www.olneypubliclibrary.org/event/mollies-war-history-of-the-womens-army-corps-oct-29th-430pm/
LOCATION:Olney Public Library\, 400 W Main St.\, Olney\, IL\, 62450\, United States
CATEGORIES:Author Talk,Event
ATTACH;FMTTYPE=image/jpeg:https://www.olneypubliclibrary.org/wp-content/uploads/2025/09/Mollies-War-History-of-the-Womens-army-coprs.jpg
ORGANIZER;CN="Olney Public Library Staff":MAILTO:director@olneypubliclibrary.org
END:VEVENT
END:VCALENDAR