BEGIN:VCALENDAR
VERSION:2.0
PRODID:-//Olney Public Library - ECPv6.15.20//NONSGML v1.0//EN
CALSCALE:GREGORIAN
METHOD:PUBLISH
X-WR-CALNAME:Olney Public Library
X-ORIGINAL-URL:https://www.olneypubliclibrary.org
X-WR-CALDESC:Events for Olney Public Library
REFRESH-INTERVAL;VALUE=DURATION:PT1H
X-Robots-Tag:noindex
X-PUBLISHED-TTL:PT1H
BEGIN:VTIMEZONE
TZID:America/Chicago
BEGIN:DAYLIGHT
TZOFFSETFROM:-0600
TZOFFSETTO:-0500
TZNAME:CDT
DTSTART:20240310T080000
END:DAYLIGHT
BEGIN:STANDARD
TZOFFSETFROM:-0500
TZOFFSETTO:-0600
TZNAME:CST
DTSTART:20241103T070000
END:STANDARD
BEGIN:DAYLIGHT
TZOFFSETFROM:-0600
TZOFFSETTO:-0500
TZNAME:CDT
DTSTART:20250309T080000
END:DAYLIGHT
BEGIN:STANDARD
TZOFFSETFROM:-0500
TZOFFSETTO:-0600
TZNAME:CST
DTSTART:20251102T070000
END:STANDARD
BEGIN:DAYLIGHT
TZOFFSETFROM:-0600
TZOFFSETTO:-0500
TZNAME:CDT
DTSTART:20260308T080000
END:DAYLIGHT
BEGIN:STANDARD
TZOFFSETFROM:-0500
TZOFFSETTO:-0600
TZNAME:CST
DTSTART:20261101T070000
END:STANDARD
END:VTIMEZONE
BEGIN:VEVENT
DTSTART;TZID=America/Chicago:20251103T170000
DTEND;TZID=America/Chicago:20251103T180000
DTSTAMP:20260424T021947
CREATED:20251031T194217Z
LAST-MODIFIED:20251031T194552Z
UID:9470-1762189200-1762192800@www.olneypubliclibrary.org
SUMMARY:OPL Book Club Nov 3rd 5pm - Book Discussion - The Seven Wives of Evelyn Hugo
DESCRIPTION:
URL:https://www.olneypubliclibrary.org/event/opl-book-club-nov-3rd-5pm-book-discussion-the-seven-wives-of-evelyn-hugo/
LOCATION:IL
CATEGORIES:Book Club,Event
END:VEVENT
BEGIN:VEVENT
DTSTART;TZID=America/Chicago:20251105T173000
DTEND;TZID=America/Chicago:20251105T183000
DTSTAMP:20260424T021947
CREATED:20250908T174255Z
LAST-MODIFIED:20250908T174255Z
UID:4691-1762363800-1762367400@www.olneypubliclibrary.org
SUMMARY:Fall Horticulture Series: Overwintering House Plants 11/5 5:30pm
DESCRIPTION:The Olney Public Library invites you to the next program in our Fall Horticulture Series: Overwintering Houseplants. On Tuesday\, November 5th at 5:30pm\, an expert from the Illinois Extension will share practical advice on how to keep your plants thriving through the winter season. From adjusting light and water needs to managing pests and dormancy\, you’ll learn everything you need to give your houseplants the best care during the colder months. This event is free and open to the public—all plant lovers are welcome! \nLocation: Illinois Extension
URL:https://www.olneypubliclibrary.org/event/fall-horticulture-series-overwintering-house-plants-11-5-530pm/
LOCATION:Olney Central College Library 305 NW Street\, 305 North West St\, Olney
CATEGORIES:Event
ATTACH;FMTTYPE=image/jpeg:https://www.olneypubliclibrary.org/wp-content/uploads/2025/09/horticulture-series-3-fall-2025.jpeg
ORGANIZER;CN="Olney Public Library Staff":MAILTO:director@olneypubliclibrary.org
END:VEVENT
BEGIN:VEVENT
DTSTART;TZID=America/Chicago:20251106T160000
DTEND;TZID=America/Chicago:20251106T180000
DTSTAMP:20260424T021947
CREATED:20251031T193926Z
LAST-MODIFIED:20251031T193926Z
UID:9466-1762444800-1762452000@www.olneypubliclibrary.org
SUMMARY:Game Night Nov 6th 4-6pm
DESCRIPTION:
URL:https://www.olneypubliclibrary.org/event/game-night-nov-6th-4-6pm/
LOCATION:Olney Public Library\, 400 W Main St.\, Olney\, IL\, 62450\, United States
CATEGORIES:Event
ORGANIZER;CN="Olney Public Library Staff":MAILTO:director@olneypubliclibrary.org
END:VEVENT
BEGIN:VEVENT
DTSTART;VALUE=DATE:20251110
DTEND;VALUE=DATE:20251118
DTSTAMP:20260424T021947
CREATED:20251031T195138Z
LAST-MODIFIED:20251031T195714Z
UID:9485-1762732800-1763423999@www.olneypubliclibrary.org
SUMMARY:Book Fair Nov 10th - 17th
DESCRIPTION:
URL:https://www.olneypubliclibrary.org/event/book-fair-nov-10th-17th/
LOCATION:Olney Public Library\, 400 W Main St.\, Olney\, IL\, 62450\, United States
CATEGORIES:Book Sale,Event
ORGANIZER;CN="Olney Public Library Staff":MAILTO:director@olneypubliclibrary.org
END:VEVENT
BEGIN:VEVENT
DTSTART;TZID=America/Chicago:20251115T130000
DTEND;TZID=America/Chicago:20251115T140000
DTSTAMP:20260424T021947
CREATED:20251006T185257Z
LAST-MODIFIED:20251006T185257Z
UID:4773-1763211600-1763215200@www.olneypubliclibrary.org
SUMMARY:Crocheting for Beginners Nov. 15th 1pm
DESCRIPTION:🧶 Crocheting for BeginnersHave you always wanted to learn how to crochet? Join us at the Olney Public Library on Saturday\, November 15th at 1:00pm for a hands-on introduction to this relaxing and creative craft. Participants will learn the basics of crocheting\, how to read a pattern\, and how to stitch a simple dishcloth to take home. All materials will be provided\, but pre-registration is required to reserve your spot. Don’t miss this fun and cozy afternoon of crafting! \n  \nDate: Nov. 15th at 1pm
URL:https://www.olneypubliclibrary.org/event/crocheting-for-beginners-nov-15th-1pm/
LOCATION:Olney Public Library\, 400 W Main St.\, Olney\, IL\, 62450\, United States
CATEGORIES:Event
ATTACH;FMTTYPE=image/jpeg:https://www.olneypubliclibrary.org/wp-content/uploads/2025/10/Crocheting-for-beginners-1.jpg
ORGANIZER;CN="Olney Public Library Staff":MAILTO:director@olneypubliclibrary.org
END:VEVENT
BEGIN:VEVENT
DTSTART;TZID=America/Chicago:20251117T120000
DTEND;TZID=America/Chicago:20251117T160000
DTSTAMP:20260424T021947
CREATED:20251031T193741Z
LAST-MODIFIED:20251031T193741Z
UID:9462-1763380800-1763395200@www.olneypubliclibrary.org
SUMMARY:Blood Drive Friday 11/ 17 12pm - 4pm
DESCRIPTION:The Olney Public Library will host a community Blood Drive on November 17th\, 2025\, from 12:00 p.m. to 4:00 p.m. in the Multipurpose Room at 400 W. Main St.\, Olney\, IL. \nSponsored by Brookstone Estates and Emerald Glen\, this event is part of the Red Cross and PEANUTS® partnership—reminding us that “A little goes a long way. Give blood.” Donors can schedule an appointment by calling 1-800-RED CROSS or visiting RedCrossBlood.org. \n 
URL:https://www.olneypubliclibrary.org/event/blood-drive-friday-11-17-12pm-4pm/
LOCATION:Olney Public Library\, 400 W Main St.\, Olney\, IL\, 62450\, United States
CATEGORIES:Blood Drive,Event
ATTACH;FMTTYPE=image/jpeg:https://www.olneypubliclibrary.org/wp-content/uploads/2025/08/blood-drive-Olney-Public-Library-Sept.-2025.jpg
ORGANIZER;CN="Olney Public Library Staff":MAILTO:director@olneypubliclibrary.org
END:VEVENT
BEGIN:VEVENT
DTSTART;TZID=America/Chicago:20251120T160000
DTEND;TZID=America/Chicago:20251120T180000
DTSTAMP:20260424T021947
CREATED:20250916T234027Z
LAST-MODIFIED:20250916T234124Z
UID:4759-1763654400-1763661600@www.olneypubliclibrary.org
SUMMARY:3D Print Lab
DESCRIPTION:Curious about 3D printing? Reserve one of four daily time slots to design in Tinkercad.com on a library computer\, then print your creation on our library’s 3D printer with help from staff. This hands-on program is perfect for beginners—bring your idea\, build your model\, and we’ll guide you through sending it to the printer. \nOnly 4 spots are available\, so please register to save your time. Ages 8+. Available on the 3rd Thursday of each month. \nClick to View Available Dates
URL:https://www.olneypubliclibrary.org/event/3d-print-lab-2/
LOCATION:Olney Public Library\, 400 W Main St.\, Olney\, IL\, 62450\, United States
CATEGORIES:3D Print Lab,Event
ATTACH;FMTTYPE=image/jpeg:https://www.olneypubliclibrary.org/wp-content/uploads/2025/09/Copy-of-3D-Print-Lab-e1758065143942.jpg
ORGANIZER;CN="Olney Public Library Staff":MAILTO:director@olneypubliclibrary.org
END:VEVENT
BEGIN:VEVENT
DTSTART;TZID=America/Chicago:20251124T173000
DTEND;TZID=America/Chicago:20251124T183000
DTSTAMP:20260424T021947
CREATED:20251031T194924Z
LAST-MODIFIED:20251031T194940Z
UID:9481-1764005400-1764009000@www.olneypubliclibrary.org
SUMMARY:Photo Presentation by Tim Dunahee - His travels near and far. 11/24 5:30
DESCRIPTION:
URL:https://www.olneypubliclibrary.org/event/photo-presentation-by-tim-dunahee-his-travels-near-and-far-11-24-530/
LOCATION:Olney Public Library\, 400 W Main St.\, Olney\, IL\, 62450\, United States
CATEGORIES:Author Talk,Event
ORGANIZER;CN="Olney Public Library Staff":MAILTO:director@olneypubliclibrary.org
END:VEVENT
BEGIN:VEVENT
DTSTART;TZID=America/Chicago:20251126T160000
DTEND;TZID=America/Chicago:20251126T170000
DTSTAMP:20260424T021947
CREATED:20251031T194506Z
LAST-MODIFIED:20251031T194506Z
UID:4772-1764172800-1764176400@www.olneypubliclibrary.org
SUMMARY:Lego Club Nov 26th 4pm
DESCRIPTION:Creative LEGO Building Event at Olney Public Library – Fun for Kids Ages 6-12! \nJoin us at Olney Public Library for an exciting LEGO Building Challenge designed just for kids ages 6-12! This hands-on\, creative event encourages young builders to explore their imagination\, develop problem-solving skills\, and have fun with friends while constructing unique LEGO masterpieces. \n🎉 What to Expect:\n✅ Tons of LEGO bricks to build with\n✅ Fun challenges and free-build time\n✅ Friendly\, creative atmosphere\n✅ A great opportunity for kids to enhance STEM skills \nNo registration is required—just bring your creativity and get ready to build! This free event is perfect for young LEGO enthusiasts who love to design\, create\, and explore. \nDon’t miss out on this fun-filled LEGO adventure at Olney Public Library—mark your calendar today! 🚀 \n#OlneyPublicLibrary #LEGOFun #KidsActivities #STEMLearning #FamilyFun
URL:https://www.olneypubliclibrary.org/event/lego-club-nov-26th-4pm/
LOCATION:Olney Public Library\, 400 W Main St.\, Olney\, IL\, 62450\, United States
CATEGORIES:Event
ATTACH;FMTTYPE=image/jpeg:https://www.olneypubliclibrary.org/wp-content/uploads/2025/10/lego-club-november-2025.jpg
ORGANIZER;CN="Olney Public Library Staff":MAILTO:director@olneypubliclibrary.org
END:VEVENT
END:VCALENDAR