BEGIN:VCALENDAR
VERSION:2.0
PRODID:-//Olney Public Library - ECPv6.15.20//NONSGML v1.0//EN
CALSCALE:GREGORIAN
METHOD:PUBLISH
X-WR-CALNAME:Olney Public Library
X-ORIGINAL-URL:https://www.olneypubliclibrary.org
X-WR-CALDESC:Events for Olney Public Library
REFRESH-INTERVAL;VALUE=DURATION:PT1H
X-Robots-Tag:noindex
X-PUBLISHED-TTL:PT1H
BEGIN:VTIMEZONE
TZID:America/Chicago
BEGIN:DAYLIGHT
TZOFFSETFROM:-0600
TZOFFSETTO:-0500
TZNAME:CDT
DTSTART:20240310T080000
END:DAYLIGHT
BEGIN:STANDARD
TZOFFSETFROM:-0500
TZOFFSETTO:-0600
TZNAME:CST
DTSTART:20241103T070000
END:STANDARD
BEGIN:DAYLIGHT
TZOFFSETFROM:-0600
TZOFFSETTO:-0500
TZNAME:CDT
DTSTART:20250309T080000
END:DAYLIGHT
BEGIN:STANDARD
TZOFFSETFROM:-0500
TZOFFSETTO:-0600
TZNAME:CST
DTSTART:20251102T070000
END:STANDARD
BEGIN:DAYLIGHT
TZOFFSETFROM:-0600
TZOFFSETTO:-0500
TZNAME:CDT
DTSTART:20260308T080000
END:DAYLIGHT
BEGIN:STANDARD
TZOFFSETFROM:-0500
TZOFFSETTO:-0600
TZNAME:CST
DTSTART:20261101T070000
END:STANDARD
END:VTIMEZONE
BEGIN:VEVENT
DTSTART;TZID=America/Chicago:20251208T170000
DTEND;TZID=America/Chicago:20251208T180000
DTSTAMP:20260423T233156
CREATED:20251124T215537Z
LAST-MODIFIED:20251124T221109Z
UID:11366-1765213200-1765216800@www.olneypubliclibrary.org
SUMMARY:OPL Book Club - Beartown by Frederik Backman 12/8/2025
DESCRIPTION:OPL Book Club – Beartown by Fredrik Backman \nDate & Time:Monday\, December 8 at 5:00 PM \nLocation:Olney Public Library(Insert address or “Library Meeting Room” as needed) \nEvent Description:Join us for a fun\, light-hearted evening at the OPL Book Club! This month we’re reading Beartown by Fredrik Backman. Come share your thoughts\, favorite characters\, and big feelings about this powerful small-town story. \nWhether you’ve finished the book\, are halfway through\, or just getting started\, you’re welcome to join the discussion. Grab a friend\, your copy of Beartown\, and settle in for a relaxed conversation with fellow readers. \nDetails: \n\n\n📚 Monthly OPL Book Club \n\n\n📖 December pick: Beartown by Fredrik Backman \n\n\n🕔 5:00 PM start time \n\n\n💬 Open to all adults/teens who enjoy reading and discussion
URL:https://www.olneypubliclibrary.org/event/opl-book-club-beartown-by-frederik-backman-12-8-2025/
LOCATION:Olney Public Library\, 400 W Main St.\, Olney\, IL\, 62450\, United States
CATEGORIES:Book Club,Event
ORGANIZER;CN="Olney Public Library Staff":MAILTO:director@olneypubliclibrary.org
END:VEVENT
BEGIN:VEVENT
DTSTART;TZID=America/Chicago:20251215T160000
DTEND;TZID=America/Chicago:20251215T180000
DTSTAMP:20260423T233156
CREATED:20251201T223658Z
LAST-MODIFIED:20251201T223658Z
UID:11886-1765814400-1765821600@www.olneypubliclibrary.org
SUMMARY:Christmas at the Library - Photos\, Treats and Crafts Dec. 15th 4-6pm
DESCRIPTION:Ring in the holiday season at Olney Public Library with a joyful family event!On Monday\, December 15 from 4–6 PM\, the library will host Christmas at the Library\, a festive celebration featuring: \n✨ Photos with a real reindeer✨ Holiday treats for all ages✨ A fun Christmas craft to take home \nFamilies are welcome to stop in anytime during the event. Bring your camera\, bring your holiday spirit\, and enjoy a cozy evening filled with Christmas cheer.We can’t wait to celebrate with you!
URL:https://www.olneypubliclibrary.org/event/christmas-at-the-library-photos-treats-and-crafts-dec-15th-4-6pm/
LOCATION:Olney Public Library\, 400 W Main St.\, Olney\, IL\, 62450\, United States
CATEGORIES:Event
ATTACH;FMTTYPE=image/jpeg:https://www.olneypubliclibrary.org/wp-content/uploads/2025/12/christmas-2025.jpg
ORGANIZER;CN="Olney Public Library Staff":MAILTO:director@olneypubliclibrary.org
END:VEVENT
BEGIN:VEVENT
DTSTART;TZID=America/Chicago:20251218T160000
DTEND;TZID=America/Chicago:20251218T180000
DTSTAMP:20260423T233156
CREATED:20250916T234201Z
LAST-MODIFIED:20250916T234201Z
UID:4763-1766073600-1766080800@www.olneypubliclibrary.org
SUMMARY:3D Print Lab
DESCRIPTION:Curious about 3D printing? Reserve one of four daily time slots to design in Tinkercad.com on a library computer\, then print your creation on our library’s 3D printer with help from staff. This hands-on program is perfect for beginners—bring your idea\, build your model\, and we’ll guide you through sending it to the printer. \nOnly 4 spots are available\, so please register to save your time. Ages 8+. Available on the 3rd Thursday of each month. \nClick to View Available Dates
URL:https://www.olneypubliclibrary.org/event/3d-print-lab-3/
LOCATION:Olney Public Library\, 400 W Main St.\, Olney\, IL\, 62450\, United States
CATEGORIES:3D Print Lab,Event
ATTACH;FMTTYPE=image/jpeg:https://www.olneypubliclibrary.org/wp-content/uploads/2025/09/Copy-of-3D-Print-Lab-e1758065143942.jpg
ORGANIZER;CN="Olney Public Library Staff":MAILTO:director@olneypubliclibrary.org
END:VEVENT
END:VCALENDAR