BEGIN:VCALENDAR
VERSION:2.0
PRODID:-//Olney Public Library - ECPv6.15.20//NONSGML v1.0//EN
CALSCALE:GREGORIAN
METHOD:PUBLISH
X-WR-CALNAME:Olney Public Library
X-ORIGINAL-URL:https://www.olneypubliclibrary.org
X-WR-CALDESC:Events for Olney Public Library
REFRESH-INTERVAL;VALUE=DURATION:PT1H
X-Robots-Tag:noindex
X-PUBLISHED-TTL:PT1H
BEGIN:VTIMEZONE
TZID:America/Chicago
BEGIN:DAYLIGHT
TZOFFSETFROM:-0600
TZOFFSETTO:-0500
TZNAME:CDT
DTSTART:20250309T080000
END:DAYLIGHT
BEGIN:STANDARD
TZOFFSETFROM:-0500
TZOFFSETTO:-0600
TZNAME:CST
DTSTART:20251102T070000
END:STANDARD
BEGIN:DAYLIGHT
TZOFFSETFROM:-0600
TZOFFSETTO:-0500
TZNAME:CDT
DTSTART:20260308T080000
END:DAYLIGHT
BEGIN:STANDARD
TZOFFSETFROM:-0500
TZOFFSETTO:-0600
TZNAME:CST
DTSTART:20261101T070000
END:STANDARD
BEGIN:DAYLIGHT
TZOFFSETFROM:-0600
TZOFFSETTO:-0500
TZNAME:CDT
DTSTART:20270314T080000
END:DAYLIGHT
BEGIN:STANDARD
TZOFFSETFROM:-0500
TZOFFSETTO:-0600
TZNAME:CST
DTSTART:20271107T070000
END:STANDARD
END:VTIMEZONE
BEGIN:VEVENT
DTSTART;TZID=America/Chicago:20260105T170000
DTEND;TZID=America/Chicago:20260105T180000
DTSTAMP:20260423T220238
CREATED:20251219T222812Z
LAST-MODIFIED:20251219T223108Z
UID:15107-1767632400-1767636000@www.olneypubliclibrary.org
SUMMARY:OPL Book Club Jan 5th 5pm The God of the Woods by Liz Moore
DESCRIPTION:Join Us for OPL Book Club – January 5th at Olney Public Library!\nCurl up with a great read and enjoy lively conversation at the next OPL Book Club gathering! This month\, participants will be diving into The God of the Woods by Liz Moore\, a gripping and atmospheric novel perfect for sparking discussion. Whether you’re a regular book club member or attending for the very first time\, you’re invited to join in! \n📚 Event Details\n📅 Date: January 5th🕔 Time: 5:00 PM📍 Location: Olney Public Library \nCome ready to talk about the story\, share your thoughts\, and enjoy a fun\, relaxed\, and lighthearted discussion with fellow book lovers. No pressure—just good conversation\, community\, and a shared love of reading. \nAbout the Book\nThe God of the Woods by Liz Moore is a beautifully written and suspenseful novel that explores family secrets\, mystery\, and the lingering echoes of the past. It’s the perfect winter read and an engaging pick for thoughtful conversation. \nIf you love books\, community\, and great discussion\, mark your calendar and plan to be there. We can’t wait to see you! \n 
URL:https://www.olneypubliclibrary.org/event/opl-book-club-jan-5th-5pm-the-god-of-the-woods-by-liz-moore/
LOCATION:Olney Public Library\, 400 W Main St.\, Olney\, IL\, 62450\, United States
CATEGORIES:Book Club,Event
ORGANIZER;CN="Olney Public Library Staff":MAILTO:director@olneypubliclibrary.org
END:VEVENT
BEGIN:VEVENT
DTSTART;TZID=America/Chicago:20260115T160000
DTEND;TZID=America/Chicago:20260115T180000
DTSTAMP:20260423T220238
CREATED:20250916T234234Z
LAST-MODIFIED:20250916T234234Z
UID:4765-1768492800-1768500000@www.olneypubliclibrary.org
SUMMARY:3D Print Lab
DESCRIPTION:Curious about 3D printing? Reserve one of four daily time slots to design in Tinkercad.com on a library computer\, then print your creation on our library’s 3D printer with help from staff. This hands-on program is perfect for beginners—bring your idea\, build your model\, and we’ll guide you through sending it to the printer. \nOnly 4 spots are available\, so please register to save your time. Ages 8+. Available on the 3rd Thursday of each month. \nClick to View Available Dates
URL:https://www.olneypubliclibrary.org/event/3d-print-lab-4/
LOCATION:Olney Public Library\, 400 W Main St.\, Olney\, IL\, 62450\, United States
CATEGORIES:3D Print Lab,Event
ATTACH;FMTTYPE=image/jpeg:https://www.olneypubliclibrary.org/wp-content/uploads/2025/09/Copy-of-3D-Print-Lab-e1758065143942.jpg
ORGANIZER;CN="Olney Public Library Staff":MAILTO:director@olneypubliclibrary.org
END:VEVENT
BEGIN:VEVENT
DTSTART;TZID=America/Chicago:20260117T100000
DTEND;TZID=America/Chicago:20260117T140000
DTSTAMP:20260423T220238
CREATED:20260106T222424Z
LAST-MODIFIED:20260114T162729Z
UID:15337-1768644000-1768658400@www.olneypubliclibrary.org
SUMMARY:Team Puzzle Challenge Jan. 17th 10am-2pm - Teams are Filled.
DESCRIPTION:Get ready for a fun and fast-paced Puzzle Challenge at Olney Public Library on January 17th from 10:00 AM – 2:00 PM! Gather your team of 2–4 puzzling pros and race against the clock (and other teams!) to complete a 500-piece puzzle. Whether you’re competitive\, collaborative\, or just love a good brain workout\, this event is all about teamwork\, strategy\, and fun. Prizes will be awarded to the top three teams\, so bring your A-game and let the pieces fall into place! 🧩 \nRegistration is Full. Follow us at https://www.facebook.com/olneypubliclibrary/ to hear about upcoming events like this one.
URL:https://www.olneypubliclibrary.org/event/team-puzzle-challenge-jan-17th-10am-2pm/
LOCATION:Olney Public Library\, 400 W Main St.\, Olney\, IL\, 62450\, United States
CATEGORIES:Event
ATTACH;FMTTYPE=image/jpeg:https://www.olneypubliclibrary.org/wp-content/uploads/2026/01/puzzlecontest2025.jpg
ORGANIZER;CN="Olney Public Library Staff":MAILTO:director@olneypubliclibrary.org
END:VEVENT
BEGIN:VEVENT
DTSTART;TZID=America/Chicago:20260129T160000
DTEND;TZID=America/Chicago:20260129T170000
DTSTAMP:20260423T220238
CREATED:20260114T163724Z
LAST-MODIFIED:20260114T163724Z
UID:15427-1769702400-1769706000@www.olneypubliclibrary.org
SUMMARY:Kid's Lego Club Jan. 29th 4pm
DESCRIPTION:Creative LEGO Building Event at Olney Public Library – Fun for Kids Ages 6-12! \nJoin us at Olney Public Library for an exciting LEGO Building Challenge designed just for kids ages 6-12! This hands-on\, creative event encourages young builders to explore their imagination\, develop problem-solving skills\, and have fun with friends while constructing unique LEGO masterpieces. \n🎉 What to Expect:\n✅ Tons of LEGO bricks to build with\n✅ Fun challenges and free-build time\n✅ Friendly\, creative atmosphere\n✅ A great opportunity for kids to enhance STEM skills \nNo registration is required—just bring your creativity and get ready to build! This free event is perfect for young LEGO enthusiasts who love to design\, create\, and explore. \nDon’t miss out on this fun-filled LEGO adventure at Olney Public Library—mark your calendar today! 🚀 \n#OlneyPublicLibrary #LEGOFun #KidsActivities #STEMLearning #FamilyFun
URL:https://www.olneypubliclibrary.org/event/kids-lego-club-jan-29th-4pm/
LOCATION:Olney Public Library\, 400 W Main St.\, Olney\, IL\, 62450\, United States
CATEGORIES:Event
ATTACH;FMTTYPE=image/jpeg:https://www.olneypubliclibrary.org/wp-content/uploads/2026/01/612325295_1303761611793814_6991766499002785918_n.jpg
ORGANIZER;CN="Olney Public Library Staff":MAILTO:director@olneypubliclibrary.org
END:VEVENT
END:VCALENDAR