BEGIN:VCALENDAR
VERSION:2.0
PRODID:-//Olney Public Library - ECPv6.15.20//NONSGML v1.0//EN
CALSCALE:GREGORIAN
METHOD:PUBLISH
X-ORIGINAL-URL:https://www.olneypubliclibrary.org
X-WR-CALDESC:Events for Olney Public Library
REFRESH-INTERVAL;VALUE=DURATION:PT1H
X-Robots-Tag:noindex
X-PUBLISHED-TTL:PT1H
BEGIN:VTIMEZONE
TZID:America/Chicago
BEGIN:DAYLIGHT
TZOFFSETFROM:-0600
TZOFFSETTO:-0500
TZNAME:CDT
DTSTART:20240310T080000
END:DAYLIGHT
BEGIN:STANDARD
TZOFFSETFROM:-0500
TZOFFSETTO:-0600
TZNAME:CST
DTSTART:20241103T070000
END:STANDARD
BEGIN:DAYLIGHT
TZOFFSETFROM:-0600
TZOFFSETTO:-0500
TZNAME:CDT
DTSTART:20250309T080000
END:DAYLIGHT
BEGIN:STANDARD
TZOFFSETFROM:-0500
TZOFFSETTO:-0600
TZNAME:CST
DTSTART:20251102T070000
END:STANDARD
BEGIN:DAYLIGHT
TZOFFSETFROM:-0600
TZOFFSETTO:-0500
TZNAME:CDT
DTSTART:20260308T080000
END:DAYLIGHT
BEGIN:STANDARD
TZOFFSETFROM:-0500
TZOFFSETTO:-0600
TZNAME:CST
DTSTART:20261101T070000
END:STANDARD
END:VTIMEZONE
BEGIN:VEVENT
DTSTART;TZID=America/Chicago:20250912T120000
DTEND;TZID=America/Chicago:20250912T160000
DTSTAMP:20260424T055739
CREATED:20250813T222846Z
LAST-MODIFIED:20250908T182206Z
UID:4642-1757678400-1757692800@www.olneypubliclibrary.org
SUMMARY:Blood Drive Friday 9/12 12pm - 4pm
DESCRIPTION:The Olney Public Library will host a community Blood Drive on Friday\, September 12\, 2025\, from 12:00 p.m. to 4:00 p.m. in the Multipurpose Room at 400 W. Main St.\, Olney\, IL. \nSponsored by Brookstone Estates and Emerald Glen\, this event is part of the Red Cross and PEANUTS® partnership—reminding us that “A little goes a long way. Give blood.” Donors can schedule an appointment by calling 1-800-RED CROSS or visiting RedCrossBlood.org. \nSave time by completing your RapidPass® online before arriving. Plus\, give blood between August 29 and September 21 for a chance to receive one of four mystery tees featuring an iconic Red Cross x PEANUTS® design\, while supplies last.
URL:https://www.olneypubliclibrary.org/event/blood-drive-friday-9-12-12pm-4pm/
LOCATION:Olney Public Library\, 400 W Main St.\, Olney\, IL\, 62450\, United States
CATEGORIES:Blood Drive,Event
ATTACH;FMTTYPE=image/jpeg:https://www.olneypubliclibrary.org/wp-content/uploads/2025/08/blood-drive-Olney-Public-Library-Sept.-2025.jpg
ORGANIZER;CN="Olney Public Library Staff":MAILTO:director@olneypubliclibrary.org
END:VEVENT
END:VCALENDAR