BEGIN:VCALENDAR
VERSION:2.0
PRODID:-//Olney Public Library - ECPv6.15.20//NONSGML v1.0//EN
CALSCALE:GREGORIAN
METHOD:PUBLISH
X-WR-CALNAME:Olney Public Library
X-ORIGINAL-URL:https://www.olneypubliclibrary.org
X-WR-CALDESC:Events for Olney Public Library
REFRESH-INTERVAL;VALUE=DURATION:PT1H
X-Robots-Tag:noindex
X-PUBLISHED-TTL:PT1H
BEGIN:VTIMEZONE
TZID:America/Chicago
BEGIN:DAYLIGHT
TZOFFSETFROM:-0600
TZOFFSETTO:-0500
TZNAME:CDT
DTSTART:20240310T080000
END:DAYLIGHT
BEGIN:STANDARD
TZOFFSETFROM:-0500
TZOFFSETTO:-0600
TZNAME:CST
DTSTART:20241103T070000
END:STANDARD
BEGIN:DAYLIGHT
TZOFFSETFROM:-0600
TZOFFSETTO:-0500
TZNAME:CDT
DTSTART:20250309T080000
END:DAYLIGHT
BEGIN:STANDARD
TZOFFSETFROM:-0500
TZOFFSETTO:-0600
TZNAME:CST
DTSTART:20251102T070000
END:STANDARD
BEGIN:DAYLIGHT
TZOFFSETFROM:-0600
TZOFFSETTO:-0500
TZNAME:CDT
DTSTART:20260308T080000
END:DAYLIGHT
BEGIN:STANDARD
TZOFFSETFROM:-0500
TZOFFSETTO:-0600
TZNAME:CST
DTSTART:20261101T070000
END:STANDARD
END:VTIMEZONE
BEGIN:VEVENT
DTSTART;TZID=America/Chicago:20251008T173000
DTEND;TZID=America/Chicago:20251008T183000
DTSTAMP:20260424T055255
CREATED:20250908T174858Z
LAST-MODIFIED:20250908T182053Z
UID:4695-1759944600-1759948200@www.olneypubliclibrary.org
SUMMARY:Horticulture Series: Vegetable Garden Prep Oct. 8th 5:30pm
DESCRIPTION:Get your garden ready for next season at the Olney Public Library! 🌱 On Wednesday\, October 8th at 5:30pm\, join us for our Fall Horticulture Series: Vegetable Garden Prep\, presented by the Illinois Extension. Learn the best techniques for cleaning up\, preparing soil\, and protecting your vegetable beds before winter sets in—so you can set yourself up for a bountiful harvest in the spring. This free program is open to all gardening enthusiasts! \n  \nLocation: Illinois Extension
URL:https://www.olneypubliclibrary.org/event/horticulture-series-vegetable-garden-prep-oct-8th-530pm/
LOCATION:Olney Central College Library 305 NW Street\, 305 North West St\, Olney
CATEGORIES:Central College Library Events,Event
ATTACH;FMTTYPE=image/jpeg:https://www.olneypubliclibrary.org/wp-content/uploads/2025/09/horticulture-series-1-fall-2025-002.jpg
ORGANIZER;CN="Olney Public Library Staff":MAILTO:director@olneypubliclibrary.org
END:VEVENT
END:VCALENDAR