BEGIN:VCALENDAR
VERSION:2.0
PRODID:-//Olney Public Library - ECPv6.15.20//NONSGML v1.0//EN
CALSCALE:GREGORIAN
METHOD:PUBLISH
X-WR-CALNAME:Olney Public Library
X-ORIGINAL-URL:https://www.olneypubliclibrary.org
X-WR-CALDESC:Events for Olney Public Library
REFRESH-INTERVAL;VALUE=DURATION:PT1H
X-Robots-Tag:noindex
X-PUBLISHED-TTL:PT1H
BEGIN:VTIMEZONE
TZID:America/Chicago
BEGIN:DAYLIGHT
TZOFFSETFROM:-0600
TZOFFSETTO:-0500
TZNAME:CDT
DTSTART:20240310T080000
END:DAYLIGHT
BEGIN:STANDARD
TZOFFSETFROM:-0500
TZOFFSETTO:-0600
TZNAME:CST
DTSTART:20241103T070000
END:STANDARD
BEGIN:DAYLIGHT
TZOFFSETFROM:-0600
TZOFFSETTO:-0500
TZNAME:CDT
DTSTART:20250309T080000
END:DAYLIGHT
BEGIN:STANDARD
TZOFFSETFROM:-0500
TZOFFSETTO:-0600
TZNAME:CST
DTSTART:20251102T070000
END:STANDARD
BEGIN:DAYLIGHT
TZOFFSETFROM:-0600
TZOFFSETTO:-0500
TZNAME:CDT
DTSTART:20260308T080000
END:DAYLIGHT
BEGIN:STANDARD
TZOFFSETFROM:-0500
TZOFFSETTO:-0600
TZNAME:CST
DTSTART:20261101T070000
END:STANDARD
END:VTIMEZONE
BEGIN:VEVENT
DTSTART;TZID=America/Chicago:20251011T130000
DTEND;TZID=America/Chicago:20251011T150000
DTSTAMP:20260424T032844
CREATED:20250908T172240Z
LAST-MODIFIED:20250912T185929Z
UID:4673-1760187600-1760194800@www.olneypubliclibrary.org
SUMMARY:Create a Fabric Pumpkin Art Class Sat. 10/11 1-3pm - Class is Full
DESCRIPTION:Create a Fabric PumpkinGet crafty this fall at the Olney Public Library! 🎃 Join us on Saturday\, October 11th from 1–3pm for a hands-on workshop led by an instructor from the Macoupin Art Collective\, where you’ll create two fabric pumpkins in different sizes to take home. This fun\, creative project is perfect for adding a cozy\, handmade touch to your autumn décor. \nThe event is free\, but pre-registration is required to reserve your spot. Sign up today at olneypubliclibrary.org \nClass is Full.\nIf you would like to hear about our upcoming events follow us on Facebook https://www.facebook.com/olneypubliclibrary/
URL:https://www.olneypubliclibrary.org/event/create-a-fabric-pumpkin-art-class-sat-10-11-1-3pm/
LOCATION:Olney Public Library\, 400 W Main St.\, Olney\, IL\, 62450\, United States
CATEGORIES:Event
ATTACH;FMTTYPE=image/jpeg:https://www.olneypubliclibrary.org/wp-content/uploads/2025/09/fabric-pumpkin-2025.jpg
ORGANIZER;CN="Olney Public Library Staff":MAILTO:director@olneypubliclibrary.org
END:VEVENT
END:VCALENDAR