BEGIN:VCALENDAR
VERSION:2.0
PRODID:-//Olney Public Library - ECPv6.15.20//NONSGML v1.0//EN
CALSCALE:GREGORIAN
METHOD:PUBLISH
X-WR-CALNAME:Olney Public Library
X-ORIGINAL-URL:https://www.olneypubliclibrary.org
X-WR-CALDESC:Events for Olney Public Library
REFRESH-INTERVAL;VALUE=DURATION:PT1H
X-Robots-Tag:noindex
X-PUBLISHED-TTL:PT1H
BEGIN:VTIMEZONE
TZID:America/Chicago
BEGIN:DAYLIGHT
TZOFFSETFROM:-0600
TZOFFSETTO:-0500
TZNAME:CDT
DTSTART:20250309T080000
END:DAYLIGHT
BEGIN:STANDARD
TZOFFSETFROM:-0500
TZOFFSETTO:-0600
TZNAME:CST
DTSTART:20251102T070000
END:STANDARD
BEGIN:DAYLIGHT
TZOFFSETFROM:-0600
TZOFFSETTO:-0500
TZNAME:CDT
DTSTART:20260308T080000
END:DAYLIGHT
BEGIN:STANDARD
TZOFFSETFROM:-0500
TZOFFSETTO:-0600
TZNAME:CST
DTSTART:20261101T070000
END:STANDARD
BEGIN:DAYLIGHT
TZOFFSETFROM:-0600
TZOFFSETTO:-0500
TZNAME:CDT
DTSTART:20270314T080000
END:DAYLIGHT
BEGIN:STANDARD
TZOFFSETFROM:-0500
TZOFFSETTO:-0600
TZNAME:CST
DTSTART:20271107T070000
END:STANDARD
END:VTIMEZONE
BEGIN:VEVENT
DTSTART;TZID=America/Chicago:20260618T160000
DTEND;TZID=America/Chicago:20260618T180000
DTSTAMP:20260423T190826
CREATED:20260313T154531Z
LAST-MODIFIED:20260313T154531Z
UID:15713-1781798400-1781805600@www.olneypubliclibrary.org
SUMMARY:3D Print Lab
DESCRIPTION:Curious about 3D printing? Reserve one of four daily time slots to design in Tinkercad.com on a library computer\, then print your creation on our library’s 3D printer with help from staff. This hands-on program is perfect for beginners—bring your idea\, build your model\, and we’ll guide you through sending it to the printer. \nOnly 4 spots are available\, so please register to save your time. Ages 8+. Available on the 3rd Thursday of each month. \nClick to View Available Dates
URL:https://www.olneypubliclibrary.org/event/3d-print-lab-9/
LOCATION:Olney Public Library\, 400 W Main St.\, Olney\, IL\, 62450\, United States
CATEGORIES:3D Print Lab,Event
ATTACH;FMTTYPE=image/jpeg:https://www.olneypubliclibrary.org/wp-content/uploads/2025/09/Copy-of-3D-Print-Lab-e1758065143942.jpg
ORGANIZER;CN="Olney Public Library Staff":MAILTO:director@olneypubliclibrary.org
END:VEVENT
BEGIN:VEVENT
DTSTART;TZID=America/Chicago:20260716T160000
DTEND;TZID=America/Chicago:20260716T180000
DTSTAMP:20260423T190826
CREATED:20260313T154557Z
LAST-MODIFIED:20260313T154557Z
UID:15715-1784217600-1784224800@www.olneypubliclibrary.org
SUMMARY:3D Print Lab
DESCRIPTION:Curious about 3D printing? Reserve one of four daily time slots to design in Tinkercad.com on a library computer\, then print your creation on our library’s 3D printer with help from staff. This hands-on program is perfect for beginners—bring your idea\, build your model\, and we’ll guide you through sending it to the printer. \nOnly 4 spots are available\, so please register to save your time. Ages 8+. Available on the 3rd Thursday of each month. \nClick to View Available Dates
URL:https://www.olneypubliclibrary.org/event/3d-print-lab-10/
LOCATION:Olney Public Library\, 400 W Main St.\, Olney\, IL\, 62450\, United States
CATEGORIES:3D Print Lab,Event
ATTACH;FMTTYPE=image/jpeg:https://www.olneypubliclibrary.org/wp-content/uploads/2025/09/Copy-of-3D-Print-Lab-e1758065143942.jpg
ORGANIZER;CN="Olney Public Library Staff":MAILTO:director@olneypubliclibrary.org
END:VEVENT
END:VCALENDAR