BEGIN:VCALENDAR
VERSION:2.0
PRODID:-//Olney Public Library - ECPv6.15.20//NONSGML v1.0//EN
CALSCALE:GREGORIAN
METHOD:PUBLISH
X-ORIGINAL-URL:https://www.olneypubliclibrary.org
X-WR-CALDESC:Events for Olney Public Library
REFRESH-INTERVAL;VALUE=DURATION:PT1H
X-Robots-Tag:noindex
X-PUBLISHED-TTL:PT1H
BEGIN:VTIMEZONE
TZID:America/Chicago
BEGIN:DAYLIGHT
TZOFFSETFROM:-0600
TZOFFSETTO:-0500
TZNAME:CDT
DTSTART:20250309T080000
END:DAYLIGHT
BEGIN:STANDARD
TZOFFSETFROM:-0500
TZOFFSETTO:-0600
TZNAME:CST
DTSTART:20251102T070000
END:STANDARD
BEGIN:DAYLIGHT
TZOFFSETFROM:-0600
TZOFFSETTO:-0500
TZNAME:CDT
DTSTART:20260308T080000
END:DAYLIGHT
BEGIN:STANDARD
TZOFFSETFROM:-0500
TZOFFSETTO:-0600
TZNAME:CST
DTSTART:20261101T070000
END:STANDARD
BEGIN:DAYLIGHT
TZOFFSETFROM:-0600
TZOFFSETTO:-0500
TZNAME:CDT
DTSTART:20270314T080000
END:DAYLIGHT
BEGIN:STANDARD
TZOFFSETFROM:-0500
TZOFFSETTO:-0600
TZNAME:CST
DTSTART:20271107T070000
END:STANDARD
END:VTIMEZONE
BEGIN:VEVENT
DTSTART;TZID=America/Chicago:20260319T160000
DTEND;TZID=America/Chicago:20260319T180000
DTSTAMP:20260423T191119
CREATED:20260313T154351Z
LAST-MODIFIED:20260313T154351Z
UID:15707-1773936000-1773943200@www.olneypubliclibrary.org
SUMMARY:3D Print Lab
DESCRIPTION:Curious about 3D printing? Reserve one of four daily time slots to design in Tinkercad.com on a library computer\, then print your creation on our library’s 3D printer with help from staff. This hands-on program is perfect for beginners—bring your idea\, build your model\, and we’ll guide you through sending it to the printer. \nOnly 4 spots are available\, so please register to save your time. Ages 8+. Available on the 3rd Thursday of each month. \nClick to View Available Dates
URL:https://www.olneypubliclibrary.org/event/3d-print-lab-6/
LOCATION:Olney Public Library\, 400 W Main St.\, Olney\, IL\, 62450\, United States
CATEGORIES:3D Print Lab,Event
ATTACH;FMTTYPE=image/jpeg:https://www.olneypubliclibrary.org/wp-content/uploads/2025/09/Copy-of-3D-Print-Lab-e1758065143942.jpg
ORGANIZER;CN="Olney Public Library Staff":MAILTO:director@olneypubliclibrary.org
END:VEVENT
BEGIN:VEVENT
DTSTART;TZID=America/Chicago:20260326T160000
DTEND;TZID=America/Chicago:20260326T170000
DTSTAMP:20260423T191119
CREATED:20260313T155415Z
LAST-MODIFIED:20260313T155415Z
UID:15726-1774540800-1774544400@www.olneypubliclibrary.org
SUMMARY:Kid's Lego Club Mar. 26th 4pm
DESCRIPTION:Creative LEGO Building Event at Olney Public Library – Fun for Kids Ages 6-12! \nJoin us at Olney Public Library for an exciting LEGO Building Challenge designed just for kids ages 6-12! This hands-on\, creative event encourages young builders to explore their imagination\, develop problem-solving skills\, and have fun with friends while constructing unique LEGO masterpieces. \n🎉 What to Expect:\n✅ Tons of LEGO bricks to build with\n✅ Fun challenges and free-build time\n✅ Friendly\, creative atmosphere\n✅ A great opportunity for kids to enhance STEM skills \nNo registration is required—just bring your creativity and get ready to build! This free event is perfect for young LEGO enthusiasts who love to design\, create\, and explore. \nDon’t miss out on this fun-filled LEGO adventure at Olney Public Library—mark your calendar today! 🚀 \n#OlneyPublicLibrary #LEGOFun #KidsActivities #STEMLearning #FamilyFun
URL:https://www.olneypubliclibrary.org/event/kids-lego-club-mar-26th-4pm/
LOCATION:Olney Public Library\, 400 W Main St.\, Olney\, IL\, 62450\, United States
CATEGORIES:Event
ATTACH;FMTTYPE=image/webp:https://www.olneypubliclibrary.org/wp-content/uploads/2026/03/lego-club-march-26.webp
ORGANIZER;CN="Olney Public Library Staff":MAILTO:director@olneypubliclibrary.org
END:VEVENT
BEGIN:VEVENT
DTSTART;TZID=America/Chicago:20260402T173000
DTEND;TZID=America/Chicago:20260402T183000
DTSTAMP:20260423T191119
CREATED:20260313T155141Z
LAST-MODIFIED:20260313T155141Z
UID:15717-1775151000-1775154600@www.olneypubliclibrary.org
SUMMARY:"The Road was Home" by Jamie Poorman 4/2 5:30pm
DESCRIPTION:Join us at the Olney Public Library for a fascinating historical presentation by librarian and Illinois Road Scholar presenter Jamie Poorman. \nIn this program\, Poorman will explore the history of Romani Americans who traveled through Central Illinois in the late 1800s. Through stories and historical research\, attendees will learn about the lives of these families\, their travels\, and their experiences in the region. \n“The Road Was Home” highlights an important and often overlooked part of local history\, offering insight into the cultural traditions and journeys of Romani communities in Illinois. \nThis engaging presentation is perfect for anyone interested in regional history\, cultural heritage\, and historical storytelling.
URL:https://www.olneypubliclibrary.org/event/the-road-was-home-by-jamie-poorman-4-2-530pm/
LOCATION:Olney Public Library\, 400 W Main St.\, Olney\, IL\, 62450\, United States
CATEGORIES:Author Talk,Event
ATTACH;FMTTYPE=image/jpeg:https://www.olneypubliclibrary.org/wp-content/uploads/2026/03/the-road-was-home-jamie-poorman.jpg
ORGANIZER;CN="Olney Public Library Staff":MAILTO:director@olneypubliclibrary.org
END:VEVENT
BEGIN:VEVENT
DTSTART;TZID=America/Chicago:20260415T173000
DTEND;TZID=America/Chicago:20260415T183000
DTSTAMP:20260423T191119
CREATED:20260313T155637Z
LAST-MODIFIED:20260313T155654Z
UID:15728-1776274200-1776277800@www.olneypubliclibrary.org
SUMMARY:One book\, One Community. Author Pres. with Shelby Van Pelt 4/15 5:30
DESCRIPTION:One Book\, One Community\nAuthor Presentation with Shelby Van Pelt\n📅 April 15 | 5:30 PM📍 RC PAC at Richland County High School \nOlney Public Library invites the community to a special One Book\, One Community event featuring Shelby Van Pelt\, author of the bestselling novel Remarkably Bright Creatures. \nDuring this program\, Van Pelt will share insights about her writing process\, the inspiration behind the beloved novel\, and the journey of bringing this unique story to readers around the world. The evening will conclude with a book signing opportunity. \nA limited number of copies of Remarkably Bright Creatures will be available for purchase at the event. \nCommunity members are encouraged to participate in the One Book\, One Community reading program by picking up a free copy of the book at: \n• Olney Public Library• Olney Chamber of Commerce• OCC Learning Commons \nThis special event is sponsored by Olney Public Library\, Carrie Winter Trust\, and Johnsie Fildes Trust.
URL:https://www.olneypubliclibrary.org/event/one-book-one-community-author-pres-with-shelby-van-pelt-4-15-530/
LOCATION:RC PAC at Richland County High School
CATEGORIES:Author Talk,Event,Richland County Event
ATTACH;FMTTYPE=image/webp:https://www.olneypubliclibrary.org/wp-content/uploads/2026/03/One-Book-One-Community.webp
ORGANIZER;CN="Olney Public Library Staff":MAILTO:director@olneypubliclibrary.org
END:VEVENT
BEGIN:VEVENT
DTSTART;TZID=America/Chicago:20260416T160000
DTEND;TZID=America/Chicago:20260416T180000
DTSTAMP:20260423T191119
CREATED:20260313T154427Z
LAST-MODIFIED:20260313T154427Z
UID:15709-1776355200-1776362400@www.olneypubliclibrary.org
SUMMARY:3D Print Lab
DESCRIPTION:Curious about 3D printing? Reserve one of four daily time slots to design in Tinkercad.com on a library computer\, then print your creation on our library’s 3D printer with help from staff. This hands-on program is perfect for beginners—bring your idea\, build your model\, and we’ll guide you through sending it to the printer. \nOnly 4 spots are available\, so please register to save your time. Ages 8+. Available on the 3rd Thursday of each month. \nClick to View Available Dates
URL:https://www.olneypubliclibrary.org/event/3d-print-lab-7/
LOCATION:Olney Public Library\, 400 W Main St.\, Olney\, IL\, 62450\, United States
CATEGORIES:3D Print Lab,Event
ATTACH;FMTTYPE=image/jpeg:https://www.olneypubliclibrary.org/wp-content/uploads/2025/09/Copy-of-3D-Print-Lab-e1758065143942.jpg
ORGANIZER;CN="Olney Public Library Staff":MAILTO:director@olneypubliclibrary.org
END:VEVENT
BEGIN:VEVENT
DTSTART;TZID=America/Chicago:20260509T130000
DTEND;TZID=America/Chicago:20260509T150000
DTSTAMP:20260423T191119
CREATED:20260325T211000Z
LAST-MODIFIED:20260409T202427Z
UID:15759-1778331600-1778338800@www.olneypubliclibrary.org
SUMMARY:Acrylic Landscape Painting Class May 9th 1pm-3pm
DESCRIPTION:Come paint a wonderful acrylic painting with us on May 9th.  Registration for this class is required. Only 30 spots are available. \nClass is put on by Macoupin Art Collective. \n\nClass is now full! 
URL:https://www.olneypubliclibrary.org/event/acrylic-landscape-painting-class-may-9th-1pm-3pm/
LOCATION:Olney Public Library\, 400 W Main St.\, Olney\, IL\, 62450\, United States
CATEGORIES:Event
ATTACH;FMTTYPE=image/png:https://www.olneypubliclibrary.org/wp-content/uploads/2026/03/Screenshot-2026-03-25-at-2.05.02-PM.png
ORGANIZER;CN="Olney Public Library Staff":MAILTO:director@olneypubliclibrary.org
END:VEVENT
BEGIN:VEVENT
DTSTART;TZID=America/Chicago:20260521T160000
DTEND;TZID=America/Chicago:20260521T180000
DTSTAMP:20260423T191119
CREATED:20260313T154459Z
LAST-MODIFIED:20260313T154459Z
UID:15711-1779379200-1779386400@www.olneypubliclibrary.org
SUMMARY:3D Print Lab
DESCRIPTION:Curious about 3D printing? Reserve one of four daily time slots to design in Tinkercad.com on a library computer\, then print your creation on our library’s 3D printer with help from staff. This hands-on program is perfect for beginners—bring your idea\, build your model\, and we’ll guide you through sending it to the printer. \nOnly 4 spots are available\, so please register to save your time. Ages 8+. Available on the 3rd Thursday of each month. \nClick to View Available Dates
URL:https://www.olneypubliclibrary.org/event/3d-print-lab-8/
LOCATION:Olney Public Library\, 400 W Main St.\, Olney\, IL\, 62450\, United States
CATEGORIES:3D Print Lab,Event
ATTACH;FMTTYPE=image/jpeg:https://www.olneypubliclibrary.org/wp-content/uploads/2025/09/Copy-of-3D-Print-Lab-e1758065143942.jpg
ORGANIZER;CN="Olney Public Library Staff":MAILTO:director@olneypubliclibrary.org
END:VEVENT
BEGIN:VEVENT
DTSTART;TZID=America/Chicago:20260618T160000
DTEND;TZID=America/Chicago:20260618T180000
DTSTAMP:20260423T191119
CREATED:20260313T154531Z
LAST-MODIFIED:20260313T154531Z
UID:15713-1781798400-1781805600@www.olneypubliclibrary.org
SUMMARY:3D Print Lab
DESCRIPTION:Curious about 3D printing? Reserve one of four daily time slots to design in Tinkercad.com on a library computer\, then print your creation on our library’s 3D printer with help from staff. This hands-on program is perfect for beginners—bring your idea\, build your model\, and we’ll guide you through sending it to the printer. \nOnly 4 spots are available\, so please register to save your time. Ages 8+. Available on the 3rd Thursday of each month. \nClick to View Available Dates
URL:https://www.olneypubliclibrary.org/event/3d-print-lab-9/
LOCATION:Olney Public Library\, 400 W Main St.\, Olney\, IL\, 62450\, United States
CATEGORIES:3D Print Lab,Event
ATTACH;FMTTYPE=image/jpeg:https://www.olneypubliclibrary.org/wp-content/uploads/2025/09/Copy-of-3D-Print-Lab-e1758065143942.jpg
ORGANIZER;CN="Olney Public Library Staff":MAILTO:director@olneypubliclibrary.org
END:VEVENT
BEGIN:VEVENT
DTSTART;TZID=America/Chicago:20260716T160000
DTEND;TZID=America/Chicago:20260716T180000
DTSTAMP:20260423T191119
CREATED:20260313T154557Z
LAST-MODIFIED:20260313T154557Z
UID:15715-1784217600-1784224800@www.olneypubliclibrary.org
SUMMARY:3D Print Lab
DESCRIPTION:Curious about 3D printing? Reserve one of four daily time slots to design in Tinkercad.com on a library computer\, then print your creation on our library’s 3D printer with help from staff. This hands-on program is perfect for beginners—bring your idea\, build your model\, and we’ll guide you through sending it to the printer. \nOnly 4 spots are available\, so please register to save your time. Ages 8+. Available on the 3rd Thursday of each month. \nClick to View Available Dates
URL:https://www.olneypubliclibrary.org/event/3d-print-lab-10/
LOCATION:Olney Public Library\, 400 W Main St.\, Olney\, IL\, 62450\, United States
CATEGORIES:3D Print Lab,Event
ATTACH;FMTTYPE=image/jpeg:https://www.olneypubliclibrary.org/wp-content/uploads/2025/09/Copy-of-3D-Print-Lab-e1758065143942.jpg
ORGANIZER;CN="Olney Public Library Staff":MAILTO:director@olneypubliclibrary.org
END:VEVENT
END:VCALENDAR