BEGIN:VCALENDAR
VERSION:2.0
PRODID:-//Olney Public Library - ECPv6.15.20//NONSGML v1.0//EN
CALSCALE:GREGORIAN
METHOD:PUBLISH
X-WR-CALNAME:Olney Public Library
X-ORIGINAL-URL:https://www.olneypubliclibrary.org
X-WR-CALDESC:Events for Olney Public Library
REFRESH-INTERVAL;VALUE=DURATION:PT1H
X-Robots-Tag:noindex
X-PUBLISHED-TTL:PT1H
BEGIN:VTIMEZONE
TZID:America/Chicago
BEGIN:DAYLIGHT
TZOFFSETFROM:-0600
TZOFFSETTO:-0500
TZNAME:CDT
DTSTART:20210314T080000
END:DAYLIGHT
BEGIN:STANDARD
TZOFFSETFROM:-0500
TZOFFSETTO:-0600
TZNAME:CST
DTSTART:20211107T070000
END:STANDARD
BEGIN:DAYLIGHT
TZOFFSETFROM:-0600
TZOFFSETTO:-0500
TZNAME:CDT
DTSTART:20220313T080000
END:DAYLIGHT
BEGIN:STANDARD
TZOFFSETFROM:-0500
TZOFFSETTO:-0600
TZNAME:CST
DTSTART:20221106T070000
END:STANDARD
BEGIN:DAYLIGHT
TZOFFSETFROM:-0600
TZOFFSETTO:-0500
TZNAME:CDT
DTSTART:20230312T080000
END:DAYLIGHT
BEGIN:STANDARD
TZOFFSETFROM:-0500
TZOFFSETTO:-0600
TZNAME:CST
DTSTART:20231105T070000
END:STANDARD
END:VTIMEZONE
BEGIN:VEVENT
DTSTART;VALUE=DATE:20221223
DTEND;VALUE=DATE:20221225
DTSTAMP:20260424T221447
CREATED:20221213T230816Z
LAST-MODIFIED:20221213T230816Z
UID:3822-1671753600-1671926399@www.olneypubliclibrary.org
SUMMARY:Library is Closed
DESCRIPTION:
URL:https://www.olneypubliclibrary.org/event/library-is-closed/
LOCATION:Olney Public Library\, 400 W Main St.\, Olney\, IL\, 62450\, United States
CATEGORIES:Holiday Closure
ATTACH;FMTTYPE=image/jpeg:https://www.olneypubliclibrary.org/wp-content/uploads/2022/12/Holiday-Closures-Facebook-Post-Square.jpg
ORGANIZER;CN="Olney Public Library Staff":MAILTO:director@olneypubliclibrary.org
END:VEVENT
BEGIN:VEVENT
DTSTART;TZID=America/Chicago:20221217T130000
DTEND;TZID=America/Chicago:20221217T140000
DTSTAMP:20260424T221447
CREATED:20221213T214639Z
LAST-MODIFIED:20221213T214639Z
UID:3819-1671282000-1671285600@www.olneypubliclibrary.org
SUMMARY:Visit Santa Dec. 17th 1 pm - 2 pm
DESCRIPTION:Enjoy story time with Santa December 17th from 1 – 2 pm. Enjoy cookies along with a take home Christmas craft. \nLimited take home crafts available.
URL:https://www.olneypubliclibrary.org/event/visit-santa-dec-17th-1-pm-2-pm/
LOCATION:Olney Public Library\, 400 W Main St.\, Olney\, IL\, 62450\, United States
CATEGORIES:Event
ATTACH;FMTTYPE=image/jpeg:https://www.olneypubliclibrary.org/wp-content/uploads/2022/12/Story-Time.jpg
ORGANIZER;CN="Olney Public Library Staff":MAILTO:director@olneypubliclibrary.org
END:VEVENT
BEGIN:VEVENT
DTSTART;VALUE=DATE:20220530
DTEND;VALUE=DATE:20220531
DTSTAMP:20260424T221447
CREATED:20220502T190401Z
LAST-MODIFIED:20220502T190401Z
UID:3717-1653868800-1653955199@www.olneypubliclibrary.org
SUMMARY:Closed Memorial Day
DESCRIPTION:
URL:https://www.olneypubliclibrary.org/event/closed-memorial-day/
LOCATION:IL
END:VEVENT
BEGIN:VEVENT
DTSTART;TZID=America/Chicago:20220526T160000
DTEND;TZID=America/Chicago:20220526T170000
DTSTAMP:20260424T221447
CREATED:20210928T161239Z
LAST-MODIFIED:20210928T161239Z
UID:3360-1653580800-1653584400@www.olneypubliclibrary.org
SUMMARY:Spark - Lightning Bug
DESCRIPTION:
URL:https://www.olneypubliclibrary.org/event/spark-lightning-bug/
LOCATION:IL
ATTACH;FMTTYPE=image/png:https://www.olneypubliclibrary.org/wp-content/uploads/2021/09/lightning-bug.png
END:VEVENT
BEGIN:VEVENT
DTSTART;TZID=America/Chicago:20220526T090000
DTEND;TZID=America/Chicago:20220526T100000
DTSTAMP:20260424T221447
CREATED:20220502T190342Z
LAST-MODIFIED:20220502T190342Z
UID:3715-1653555600-1653559200@www.olneypubliclibrary.org
SUMMARY:Birth - 3 Program
DESCRIPTION:
URL:https://www.olneypubliclibrary.org/event/birth-3-program-2/
LOCATION:IL
END:VEVENT
BEGIN:VEVENT
DTSTART;TZID=America/Chicago:20220525T073000
DTEND;TZID=America/Chicago:20220525T130000
DTSTAMP:20260424T221447
CREATED:20220502T190211Z
LAST-MODIFIED:20220502T190211Z
UID:3710-1653463800-1653483600@www.olneypubliclibrary.org
SUMMARY:Carle Training
DESCRIPTION:
URL:https://www.olneypubliclibrary.org/event/carle-training-3/
LOCATION:IL
END:VEVENT
BEGIN:VEVENT
DTSTART;VALUE=DATE:20220525
DTEND;VALUE=DATE:20220526
DTSTAMP:20260424T221447
CREATED:20220502T190311Z
LAST-MODIFIED:20220502T190311Z
UID:3712-1653436800-1653523199@www.olneypubliclibrary.org
SUMMARY:Summer Reading Challenge Registration Begins
DESCRIPTION:
URL:https://www.olneypubliclibrary.org/event/summer-reading-challenge-registration-begins/
LOCATION:IL
ATTACH;FMTTYPE=image/png:https://www.olneypubliclibrary.org/wp-content/uploads/2022/05/Summer-Reading-2022.png
END:VEVENT
BEGIN:VEVENT
DTSTART;TZID=America/Chicago:20220524T073000
DTEND;TZID=America/Chicago:20220524T130000
DTSTAMP:20260424T221447
CREATED:20220502T190148Z
LAST-MODIFIED:20220502T190148Z
UID:3708-1653377400-1653397200@www.olneypubliclibrary.org
SUMMARY:Carle Training
DESCRIPTION:
URL:https://www.olneypubliclibrary.org/event/carle-training-2/
LOCATION:IL
END:VEVENT
BEGIN:VEVENT
DTSTART;TZID=America/Chicago:20220519T101500
DTEND;TZID=America/Chicago:20220519T121500
DTSTAMP:20260424T221447
CREATED:20220502T190101Z
LAST-MODIFIED:20220502T190101Z
UID:3706-1652955300-1652962500@www.olneypubliclibrary.org
SUMMARY:Adam Niemerg State Rep
DESCRIPTION:
URL:https://www.olneypubliclibrary.org/event/adam-niemerg-state-rep/
LOCATION:IL
END:VEVENT
BEGIN:VEVENT
DTSTART;TZID=America/Chicago:20220518T120000
DTEND;TZID=America/Chicago:20220518T150000
DTSTAMP:20260424T221447
CREATED:20220502T185904Z
LAST-MODIFIED:20220502T185904Z
UID:3704-1652875200-1652886000@www.olneypubliclibrary.org
SUMMARY:OCC Alumni Group
DESCRIPTION:
URL:https://www.olneypubliclibrary.org/event/occ-alumni-group/
LOCATION:IL
END:VEVENT
BEGIN:VEVENT
DTSTART;TZID=America/Chicago:20220517T160000
DTEND;TZID=America/Chicago:20220517T170000
DTSTAMP:20260424T221447
CREATED:20220502T185840Z
LAST-MODIFIED:20220502T185840Z
UID:3702-1652803200-1652806800@www.olneypubliclibrary.org
SUMMARY:Lion's Club Meeting
DESCRIPTION:
URL:https://www.olneypubliclibrary.org/event/lions-club-meeting-10/
LOCATION:IL
END:VEVENT
BEGIN:VEVENT
DTSTART;TZID=America/Chicago:20220512T190000
DTEND;TZID=America/Chicago:20220512T200000
DTSTAMP:20260424T221447
CREATED:20220502T185811Z
LAST-MODIFIED:20220502T185811Z
UID:3700-1652382000-1652385600@www.olneypubliclibrary.org
SUMMARY:PEO Meeting
DESCRIPTION:
URL:https://www.olneypubliclibrary.org/event/peo-meeting/
LOCATION:IL
END:VEVENT
BEGIN:VEVENT
DTSTART;TZID=America/Chicago:20220512T160000
DTEND;TZID=America/Chicago:20220512T163000
DTSTAMP:20260424T221447
CREATED:20220502T185743Z
LAST-MODIFIED:20220502T185743Z
UID:3698-1652371200-1652373000@www.olneypubliclibrary.org
SUMMARY:Quilt of Valor
DESCRIPTION:
URL:https://www.olneypubliclibrary.org/event/quilt-of-valor-5/
LOCATION:IL
END:VEVENT
BEGIN:VEVENT
DTSTART;TZID=America/Chicago:20220512T133000
DTEND;TZID=America/Chicago:20220512T153000
DTSTAMP:20260424T221447
CREATED:20220502T185712Z
LAST-MODIFIED:20220502T185712Z
UID:3696-1652362200-1652369400@www.olneypubliclibrary.org
SUMMARY:Book Club
DESCRIPTION:
URL:https://www.olneypubliclibrary.org/event/book-club-8/
LOCATION:IL
END:VEVENT
BEGIN:VEVENT
DTSTART;TZID=America/Chicago:20220511T120000
DTEND;TZID=America/Chicago:20220511T160000
DTSTAMP:20260424T221447
CREATED:20220502T185644Z
LAST-MODIFIED:20220502T185644Z
UID:3694-1652270400-1652284800@www.olneypubliclibrary.org
SUMMARY:Blood Drive
DESCRIPTION:
URL:https://www.olneypubliclibrary.org/event/blood-drive-7/
LOCATION:IL
END:VEVENT
BEGIN:VEVENT
DTSTART;TZID=America/Chicago:20220510T173000
DTEND;TZID=America/Chicago:20220510T190000
DTSTAMP:20260424T221447
CREATED:20220502T185614Z
LAST-MODIFIED:20220502T185614Z
UID:3692-1652203800-1652209200@www.olneypubliclibrary.org
SUMMARY:Olney Public Library Board Meeting
DESCRIPTION:
URL:https://www.olneypubliclibrary.org/event/olney-public-library-board-meeting-5/
LOCATION:IL
END:VEVENT
BEGIN:VEVENT
DTSTART;TZID=America/Chicago:20220510T073000
DTEND;TZID=America/Chicago:20220510T130000
DTSTAMP:20260424T221447
CREATED:20220502T185534Z
LAST-MODIFIED:20220502T185534Z
UID:3688-1652167800-1652187600@www.olneypubliclibrary.org
SUMMARY:Carle Training
DESCRIPTION:
URL:https://www.olneypubliclibrary.org/event/carle-training/
LOCATION:IL
END:VEVENT
BEGIN:VEVENT
DTSTART;TZID=America/Chicago:20220510T040000
DTEND;TZID=America/Chicago:20220510T163000
DTSTAMP:20260424T221447
CREATED:20220502T185552Z
LAST-MODIFIED:20220502T185552Z
UID:3690-1652155200-1652200200@www.olneypubliclibrary.org
SUMMARY:Quilt of Valor
DESCRIPTION:
URL:https://www.olneypubliclibrary.org/event/quilt-of-valor-4/
LOCATION:IL
END:VEVENT
BEGIN:VEVENT
DTSTART;TZID=America/Chicago:20220504T080000
DTEND;TZID=America/Chicago:20220504T170000
DTSTAMP:20260424T221447
CREATED:20220502T185457Z
LAST-MODIFIED:20220502T185457Z
UID:3686-1651651200-1651683600@www.olneypubliclibrary.org
SUMMARY:ABC Program Meeting
DESCRIPTION:
URL:https://www.olneypubliclibrary.org/event/abc-program-meeting-2/
LOCATION:IL
END:VEVENT
BEGIN:VEVENT
DTSTART;TZID=America/Chicago:20220503T173000
DTEND;TZID=America/Chicago:20220503T190000
DTSTAMP:20260424T221447
CREATED:20220502T185347Z
LAST-MODIFIED:20220502T185347Z
UID:3684-1651599000-1651604400@www.olneypubliclibrary.org
SUMMARY:Richland County Hope
DESCRIPTION:
URL:https://www.olneypubliclibrary.org/event/richland-county-hope-3/
LOCATION:IL
END:VEVENT
BEGIN:VEVENT
DTSTART;VALUE=DATE:20220428
DTEND;VALUE=DATE:20220430
DTSTAMP:20260424T221447
CREATED:20220406T184730Z
LAST-MODIFIED:20220406T184730Z
UID:3677-1651168800-1651255199@www.olneypubliclibrary.org
SUMMARY:Last Day for Apollo Experience
DESCRIPTION:
URL:https://www.olneypubliclibrary.org/event/last-day-for-apollo-experience/
LOCATION:IL
END:VEVENT
BEGIN:VEVENT
DTSTART;TZID=America/Chicago:20220428T030000
DTEND;TZID=America/Chicago:20220428T040000
DTSTAMP:20260424T221447
CREATED:20220406T184606Z
LAST-MODIFIED:20220406T184606Z
UID:3673-1651114800-1651118400@www.olneypubliclibrary.org
SUMMARY:Birth -3 Program
DESCRIPTION:
URL:https://www.olneypubliclibrary.org/event/birth-3-program/
LOCATION:IL
END:VEVENT
BEGIN:VEVENT
DTSTART;TZID=America/Chicago:20220428T020000
DTEND;TZID=America/Chicago:20220428T070000
DTSTAMP:20260424T221447
CREATED:20220406T184702Z
LAST-MODIFIED:20220406T184702Z
UID:3675-1651111200-1651129200@www.olneypubliclibrary.org
SUMMARY:Carle RMH Training
DESCRIPTION:
URL:https://www.olneypubliclibrary.org/event/carle-rmh-training/
LOCATION:IL
END:VEVENT
BEGIN:VEVENT
DTSTART;TZID=America/Chicago:20220426T040000
DTEND;TZID=America/Chicago:20220426T080000
DTSTAMP:20260424T221447
CREATED:20220406T184532Z
LAST-MODIFIED:20220406T184532Z
UID:3671-1650945600-1650960000@www.olneypubliclibrary.org
SUMMARY:RCDC Meeting
DESCRIPTION:
URL:https://www.olneypubliclibrary.org/event/rcdc-meeting/
LOCATION:IL
END:VEVENT
BEGIN:VEVENT
DTSTART;VALUE=DATE:20220422
DTEND;VALUE=DATE:20220424
DTSTAMP:20260424T221447
CREATED:20220406T184507Z
LAST-MODIFIED:20220406T184507Z
UID:3669-1650650400-1650736799@www.olneypubliclibrary.org
SUMMARY:4-H Work Day
DESCRIPTION:
URL:https://www.olneypubliclibrary.org/event/4-h-work-day/
LOCATION:IL
END:VEVENT
BEGIN:VEVENT
DTSTART;TZID=America/Chicago:20220421T160000
DTEND;TZID=America/Chicago:20220421T170000
DTSTAMP:20260424T221447
CREATED:20210928T161116Z
LAST-MODIFIED:20210928T161917Z
UID:3357-1650556800-1650560400@www.olneypubliclibrary.org
SUMMARY:Spark - Wind Energy
DESCRIPTION:
URL:https://www.olneypubliclibrary.org/event/spark-wind-energy/
LOCATION:IL
ATTACH;FMTTYPE=image/png:https://www.olneypubliclibrary.org/wp-content/uploads/2021/09/wind-energy.png
END:VEVENT
BEGIN:VEVENT
DTSTART;TZID=America/Chicago:20220419T103000
DTEND;TZID=America/Chicago:20220419T113000
DTSTAMP:20260424T221447
CREATED:20220406T184441Z
LAST-MODIFIED:20220406T184441Z
UID:3667-1650364200-1650367800@www.olneypubliclibrary.org
SUMMARY:Lion's Club Meeting
DESCRIPTION:
URL:https://www.olneypubliclibrary.org/event/lions-club-meeting-9/
LOCATION:IL
END:VEVENT
BEGIN:VEVENT
DTSTART;TZID=America/Chicago:20220418T050000
DTEND;TZID=America/Chicago:20220418T070000
DTSTAMP:20260424T221447
CREATED:20220406T184411Z
LAST-MODIFIED:20220406T184411Z
UID:3665-1650258000-1650265200@www.olneypubliclibrary.org
SUMMARY:ABC Program Meeting
DESCRIPTION:
URL:https://www.olneypubliclibrary.org/event/abc-program-meeting/
LOCATION:IL
END:VEVENT
BEGIN:VEVENT
DTSTART;VALUE=DATE:20220414
DTEND;VALUE=DATE:20220416
DTSTAMP:20260424T221447
CREATED:20220406T184157Z
LAST-MODIFIED:20220406T184157Z
UID:3656-1649959200-1650045599@www.olneypubliclibrary.org
SUMMARY:Closed Good Friday
DESCRIPTION:
URL:https://www.olneypubliclibrary.org/event/closed-good-friday-2/
LOCATION:IL
END:VEVENT
BEGIN:VEVENT
DTSTART;TZID=America/Chicago:20220414T110000
DTEND;TZID=America/Chicago:20220414T130000
DTSTAMP:20260424T221447
CREATED:20220406T184340Z
LAST-MODIFIED:20220406T184340Z
UID:3663-1649934000-1649941200@www.olneypubliclibrary.org
SUMMARY:Richland County Genealogy Meeting
DESCRIPTION:
URL:https://www.olneypubliclibrary.org/event/richland-county-genealogy-meeting/
LOCATION:IL
END:VEVENT
END:VCALENDAR