BEGIN:VCALENDAR
VERSION:2.0
PRODID:-//Olney Public Library - ECPv6.15.20//NONSGML v1.0//EN
CALSCALE:GREGORIAN
METHOD:PUBLISH
X-WR-CALNAME:Olney Public Library
X-ORIGINAL-URL:https://www.olneypubliclibrary.org
X-WR-CALDESC:Events for Olney Public Library
REFRESH-INTERVAL;VALUE=DURATION:PT1H
X-Robots-Tag:noindex
X-PUBLISHED-TTL:PT1H
BEGIN:VTIMEZONE
TZID:America/Chicago
BEGIN:DAYLIGHT
TZOFFSETFROM:-0600
TZOFFSETTO:-0500
TZNAME:CDT
DTSTART:20210314T080000
END:DAYLIGHT
BEGIN:STANDARD
TZOFFSETFROM:-0500
TZOFFSETTO:-0600
TZNAME:CST
DTSTART:20211107T070000
END:STANDARD
BEGIN:DAYLIGHT
TZOFFSETFROM:-0600
TZOFFSETTO:-0500
TZNAME:CDT
DTSTART:20220313T080000
END:DAYLIGHT
BEGIN:STANDARD
TZOFFSETFROM:-0500
TZOFFSETTO:-0600
TZNAME:CST
DTSTART:20221106T070000
END:STANDARD
BEGIN:DAYLIGHT
TZOFFSETFROM:-0600
TZOFFSETTO:-0500
TZNAME:CDT
DTSTART:20230312T080000
END:DAYLIGHT
BEGIN:STANDARD
TZOFFSETFROM:-0500
TZOFFSETTO:-0600
TZNAME:CST
DTSTART:20231105T070000
END:STANDARD
END:VTIMEZONE
BEGIN:VEVENT
DTSTART;VALUE=DATE:20220428
DTEND;VALUE=DATE:20220430
DTSTAMP:20260424T221356
CREATED:20220406T184730Z
LAST-MODIFIED:20220406T184730Z
UID:3677-1651168800-1651255199@www.olneypubliclibrary.org
SUMMARY:Last Day for Apollo Experience
DESCRIPTION:
URL:https://www.olneypubliclibrary.org/event/last-day-for-apollo-experience/
END:VEVENT
BEGIN:VEVENT
DTSTART;TZID=America/Chicago:20220428T030000
DTEND;TZID=America/Chicago:20220428T040000
DTSTAMP:20260424T221356
CREATED:20220406T184606Z
LAST-MODIFIED:20220406T184606Z
UID:3673-1651114800-1651118400@www.olneypubliclibrary.org
SUMMARY:Birth -3 Program
DESCRIPTION:
URL:https://www.olneypubliclibrary.org/event/birth-3-program/
END:VEVENT
BEGIN:VEVENT
DTSTART;TZID=America/Chicago:20220428T020000
DTEND;TZID=America/Chicago:20220428T070000
DTSTAMP:20260424T221356
CREATED:20220406T184702Z
LAST-MODIFIED:20220406T184702Z
UID:3675-1651111200-1651129200@www.olneypubliclibrary.org
SUMMARY:Carle RMH Training
DESCRIPTION:
URL:https://www.olneypubliclibrary.org/event/carle-rmh-training/
END:VEVENT
BEGIN:VEVENT
DTSTART;TZID=America/Chicago:20220426T040000
DTEND;TZID=America/Chicago:20220426T080000
DTSTAMP:20260424T221356
CREATED:20220406T184532Z
LAST-MODIFIED:20220406T184532Z
UID:3671-1650945600-1650960000@www.olneypubliclibrary.org
SUMMARY:RCDC Meeting
DESCRIPTION:
URL:https://www.olneypubliclibrary.org/event/rcdc-meeting/
END:VEVENT
BEGIN:VEVENT
DTSTART;VALUE=DATE:20220422
DTEND;VALUE=DATE:20220424
DTSTAMP:20260424T221356
CREATED:20220406T184507Z
LAST-MODIFIED:20220406T184507Z
UID:3669-1650650400-1650736799@www.olneypubliclibrary.org
SUMMARY:4-H Work Day
DESCRIPTION:
URL:https://www.olneypubliclibrary.org/event/4-h-work-day/
END:VEVENT
BEGIN:VEVENT
DTSTART;TZID=America/Chicago:20220421T160000
DTEND;TZID=America/Chicago:20220421T170000
DTSTAMP:20260424T221356
CREATED:20210928T161116Z
LAST-MODIFIED:20210928T161917Z
UID:3357-1650556800-1650560400@www.olneypubliclibrary.org
SUMMARY:Spark - Wind Energy
DESCRIPTION:
URL:https://www.olneypubliclibrary.org/event/spark-wind-energy/
ATTACH;FMTTYPE=image/png:https://www.olneypubliclibrary.org/wp-content/uploads/2021/09/wind-energy.png
END:VEVENT
BEGIN:VEVENT
DTSTART;TZID=America/Chicago:20220419T103000
DTEND;TZID=America/Chicago:20220419T113000
DTSTAMP:20260424T221356
CREATED:20220406T184441Z
LAST-MODIFIED:20220406T184441Z
UID:3667-1650364200-1650367800@www.olneypubliclibrary.org
SUMMARY:Lion's Club Meeting
DESCRIPTION:
URL:https://www.olneypubliclibrary.org/event/lions-club-meeting-9/
END:VEVENT
BEGIN:VEVENT
DTSTART;TZID=America/Chicago:20220418T050000
DTEND;TZID=America/Chicago:20220418T070000
DTSTAMP:20260424T221356
CREATED:20220406T184411Z
LAST-MODIFIED:20220406T184411Z
UID:3665-1650258000-1650265200@www.olneypubliclibrary.org
SUMMARY:ABC Program Meeting
DESCRIPTION:
URL:https://www.olneypubliclibrary.org/event/abc-program-meeting/
END:VEVENT
BEGIN:VEVENT
DTSTART;VALUE=DATE:20220414
DTEND;VALUE=DATE:20220416
DTSTAMP:20260424T221356
CREATED:20220406T184157Z
LAST-MODIFIED:20220406T184157Z
UID:3656-1649959200-1650045599@www.olneypubliclibrary.org
SUMMARY:Closed Good Friday
DESCRIPTION:
URL:https://www.olneypubliclibrary.org/event/closed-good-friday-2/
END:VEVENT
BEGIN:VEVENT
DTSTART;TZID=America/Chicago:20220414T110000
DTEND;TZID=America/Chicago:20220414T130000
DTSTAMP:20260424T221356
CREATED:20220406T184340Z
LAST-MODIFIED:20220406T184340Z
UID:3663-1649934000-1649941200@www.olneypubliclibrary.org
SUMMARY:Richland County Genealogy Meeting
DESCRIPTION:
URL:https://www.olneypubliclibrary.org/event/richland-county-genealogy-meeting/
END:VEVENT
BEGIN:VEVENT
DTSTART;TZID=America/Chicago:20220414T073000
DTEND;TZID=America/Chicago:20220414T090000
DTSTAMP:20260424T221356
CREATED:20220406T184308Z
LAST-MODIFIED:20220406T184308Z
UID:3661-1649921400-1649926800@www.olneypubliclibrary.org
SUMMARY:Book Club
DESCRIPTION:
URL:https://www.olneypubliclibrary.org/event/book-club-7/
END:VEVENT
BEGIN:VEVENT
DTSTART;TZID=America/Chicago:20220412T113000
DTEND;TZID=America/Chicago:20220412T130000
DTSTAMP:20260424T221356
CREATED:20220406T184132Z
LAST-MODIFIED:20220406T184132Z
UID:3654-1649763000-1649768400@www.olneypubliclibrary.org
SUMMARY:OPL Board Meeting
DESCRIPTION:
URL:https://www.olneypubliclibrary.org/event/opl-board-meeting-11/
END:VEVENT
BEGIN:VEVENT
DTSTART;TZID=America/Chicago:20220409T023000
DTEND;TZID=America/Chicago:20220409T163000
DTSTAMP:20260424T221356
CREATED:20220406T184052Z
LAST-MODIFIED:20220406T184052Z
UID:3651-1649471400-1649521800@www.olneypubliclibrary.org
SUMMARY:Veteran's Coffee Hour
DESCRIPTION:
URL:https://www.olneypubliclibrary.org/event/veterans-coffee-hour-3/
ATTACH;FMTTYPE=image/png:https://www.olneypubliclibrary.org/wp-content/uploads/2022/04/Red-Navy-Modern-Memorial-Day-Instagram-Post.png
END:VEVENT
BEGIN:VEVENT
DTSTART;TZID=America/Chicago:20220405T113000
DTEND;TZID=America/Chicago:20220405T130000
DTSTAMP:20260424T221356
CREATED:20220406T184236Z
LAST-MODIFIED:20220406T184236Z
UID:3659-1649158200-1649163600@www.olneypubliclibrary.org
SUMMARY:Richland County Hope
DESCRIPTION:
URL:https://www.olneypubliclibrary.org/event/richland-county-hope-2/
END:VEVENT
BEGIN:VEVENT
DTSTART;VALUE=DATE:20220331
DTEND;VALUE=DATE:20220501
DTSTAMP:20260424T221356
CREATED:20220320T202519Z
LAST-MODIFIED:20220320T202519Z
UID:3639-1648749600-1651341599@www.olneypubliclibrary.org
SUMMARY:The Apollo Experience
DESCRIPTION:
URL:https://www.olneypubliclibrary.org/event/the-apollo-experience/
ATTACH;FMTTYPE=image/png:https://www.olneypubliclibrary.org/wp-content/uploads/2022/03/Untitled-design-4.png
END:VEVENT
BEGIN:VEVENT
DTSTART;TZID=America/Chicago:20220328T040000
DTEND;TZID=America/Chicago:20220402T110000
DTSTAMP:20260424T221356
CREATED:20220224T181020Z
LAST-MODIFIED:20220224T181020Z
UID:3635-1648440000-1648897200@www.olneypubliclibrary.org
SUMMARY:USBORNE BOOK FAIR
DESCRIPTION:
URL:https://www.olneypubliclibrary.org/event/usborne-book-fair-3/
END:VEVENT
BEGIN:VEVENT
DTSTART;TZID=America/Chicago:20220324T160000
DTEND;TZID=America/Chicago:20220324T170000
DTSTAMP:20260424T221356
CREATED:20210928T160935Z
LAST-MODIFIED:20210928T161619Z
UID:3354-1648137600-1648141200@www.olneypubliclibrary.org
SUMMARY:Spark - Straw Rockets
DESCRIPTION:
URL:https://www.olneypubliclibrary.org/event/spark-straw-rockets/
ATTACH;FMTTYPE=image/png:https://www.olneypubliclibrary.org/wp-content/uploads/2021/09/straw-rocket.png
END:VEVENT
BEGIN:VEVENT
DTSTART;TZID=America/Chicago:20220319T023000
DTEND;TZID=America/Chicago:20220319T040000
DTSTAMP:20260424T221356
CREATED:20220224T180323Z
LAST-MODIFIED:20220224T180323Z
UID:3618-1647657000-1647662400@www.olneypubliclibrary.org
SUMMARY:Veteran's Coffee Hour
DESCRIPTION:
URL:https://www.olneypubliclibrary.org/event/veterans-coffee-hour-2/
ATTACH;FMTTYPE=image/png:https://www.olneypubliclibrary.org/wp-content/uploads/2022/02/Coffee-Hour-for-veterans-1.png
END:VEVENT
BEGIN:VEVENT
DTSTART;TZID=America/Chicago:20220310T073000
DTEND;TZID=America/Chicago:20220310T093000
DTSTAMP:20260424T221356
CREATED:20220224T180758Z
LAST-MODIFIED:20220224T180758Z
UID:3633-1646897400-1646904600@www.olneypubliclibrary.org
SUMMARY:Book Club
DESCRIPTION:
URL:https://www.olneypubliclibrary.org/event/book-club-6/
END:VEVENT
BEGIN:VEVENT
DTSTART;TZID=America/Chicago:20220310T040000
DTEND;TZID=America/Chicago:20220310T130000
DTSTAMP:20260424T221356
CREATED:20220224T180510Z
LAST-MODIFIED:20220224T180510Z
UID:3624-1646884800-1646917200@www.olneypubliclibrary.org
SUMMARY:Final Weigh In - Competition
DESCRIPTION:
URL:https://www.olneypubliclibrary.org/event/final-weigh-in-competition/
ATTACH;FMTTYPE=image/png:https://www.olneypubliclibrary.org/wp-content/uploads/2021/12/OPL-FIXED.png
END:VEVENT
BEGIN:VEVENT
DTSTART;TZID=America/Chicago:20220308T113000
DTEND;TZID=America/Chicago:20220308T130000
DTSTAMP:20260424T221356
CREATED:20220224T180731Z
LAST-MODIFIED:20220224T180731Z
UID:3631-1646739000-1646744400@www.olneypubliclibrary.org
SUMMARY:Olney Public Library Board Meeting
DESCRIPTION:
URL:https://www.olneypubliclibrary.org/event/olney-public-library-board-meeting-4/
END:VEVENT
BEGIN:VEVENT
DTSTART;TZID=America/Chicago:20220307T110000
DTEND;TZID=America/Chicago:20220307T130000
DTSTAMP:20260424T221356
CREATED:20220224T180701Z
LAST-MODIFIED:20220224T180701Z
UID:3629-1646650800-1646658000@www.olneypubliclibrary.org
SUMMARY:Richland County Girl Scout Meeting
DESCRIPTION:
URL:https://www.olneypubliclibrary.org/event/richland-county-girl-scout-meeting/
END:VEVENT
BEGIN:VEVENT
DTSTART;TZID=America/Chicago:20220301T110000
DTEND;TZID=America/Chicago:20220301T130000
DTSTAMP:20260424T221356
CREATED:20220224T180628Z
LAST-MODIFIED:20220224T180628Z
UID:3626-1646132400-1646139600@www.olneypubliclibrary.org
SUMMARY:Richland County Hope Meeting
DESCRIPTION:
URL:https://www.olneypubliclibrary.org/event/richland-county-hope-meeting/
ATTACH;FMTTYPE=image/jpeg:https://www.olneypubliclibrary.org/wp-content/uploads/2022/02/62057508_368883003751708_996072498707562496_n.jpg
END:VEVENT
BEGIN:VEVENT
DTSTART;TZID=America/Chicago:20220225T040000
DTEND;TZID=America/Chicago:20220225T110000
DTSTAMP:20260424T221356
CREATED:20220224T180427Z
LAST-MODIFIED:20220224T180427Z
UID:3621-1645761600-1645786800@www.olneypubliclibrary.org
SUMMARY:Tiny Art Show - KITS
DESCRIPTION:
URL:https://www.olneypubliclibrary.org/event/tiny-art-show-kits/
ATTACH;FMTTYPE=image/png:https://www.olneypubliclibrary.org/wp-content/uploads/2022/02/Olney-Public-Library-9.png
END:VEVENT
BEGIN:VEVENT
DTSTART;TZID=America/Chicago:20220224T160000
DTEND;TZID=America/Chicago:20220224T170000
DTSTAMP:20260424T221356
CREATED:20210928T160759Z
LAST-MODIFIED:20210928T160759Z
UID:3351-1645718400-1645722000@www.olneypubliclibrary.org
SUMMARY:Spark - Magic Wand
DESCRIPTION:
URL:https://www.olneypubliclibrary.org/event/spark-magic-wand/
ATTACH;FMTTYPE=image/png:https://www.olneypubliclibrary.org/wp-content/uploads/2021/09/magic-wand.png
END:VEVENT
BEGIN:VEVENT
DTSTART;TZID=America/Chicago:20220224T090000
DTEND;TZID=America/Chicago:20220224T100000
DTSTAMP:20260424T221356
CREATED:20220208T174105Z
LAST-MODIFIED:20220208T174105Z
UID:3589-1645693200-1645696800@www.olneypubliclibrary.org
SUMMARY:RCES Birth - 3 Program Visit
DESCRIPTION:
URL:https://www.olneypubliclibrary.org/event/rces-birth-3-program-visit-2/
END:VEVENT
BEGIN:VEVENT
DTSTART;TZID=America/Chicago:20220222T170000
DTEND;TZID=America/Chicago:20220222T190000
DTSTAMP:20260424T221356
CREATED:20220208T174025Z
LAST-MODIFIED:20220208T174025Z
UID:3587-1645549200-1645556400@www.olneypubliclibrary.org
SUMMARY:Girl Scouts
DESCRIPTION:
URL:https://www.olneypubliclibrary.org/event/girl-scouts-7/
END:VEVENT
BEGIN:VEVENT
DTSTART;TZID=America/Chicago:20220222T100000
DTEND;TZID=America/Chicago:20220222T120000
DTSTAMP:20260424T221356
CREATED:20220208T173945Z
LAST-MODIFIED:20220208T173945Z
UID:3585-1645524000-1645531200@www.olneypubliclibrary.org
SUMMARY:Illinois Ombudsman Program
DESCRIPTION:
URL:https://www.olneypubliclibrary.org/event/illinois-ombudsman-program/
END:VEVENT
BEGIN:VEVENT
DTSTART;TZID=America/Chicago:20220221T170000
DTEND;TZID=America/Chicago:20220221T183000
DTSTAMP:20260424T221356
CREATED:20220208T173825Z
LAST-MODIFIED:20220208T173825Z
UID:3583-1645462800-1645468200@www.olneypubliclibrary.org
SUMMARY:Girl Scouts
DESCRIPTION:
URL:https://www.olneypubliclibrary.org/event/girl-scouts-6/
END:VEVENT
BEGIN:VEVENT
DTSTART;TZID=America/Chicago:20220217T170000
DTEND;TZID=America/Chicago:20220217T190000
DTSTAMP:20260424T221356
CREATED:20220208T173756Z
LAST-MODIFIED:20220208T173756Z
UID:3581-1645117200-1645124400@www.olneypubliclibrary.org
SUMMARY:Richland County Genealogy Society Meeting
DESCRIPTION:
URL:https://www.olneypubliclibrary.org/event/richland-county-genealogy-society-meeting/
END:VEVENT
END:VCALENDAR