BEGIN:VCALENDAR
VERSION:2.0
PRODID:-//Olney Public Library - ECPv6.15.20//NONSGML v1.0//EN
CALSCALE:GREGORIAN
METHOD:PUBLISH
X-WR-CALNAME:Olney Public Library
X-ORIGINAL-URL:https://www.olneypubliclibrary.org
X-WR-CALDESC:Events for Olney Public Library
REFRESH-INTERVAL;VALUE=DURATION:PT1H
X-Robots-Tag:noindex
X-PUBLISHED-TTL:PT1H
BEGIN:VTIMEZONE
TZID:America/Chicago
BEGIN:DAYLIGHT
TZOFFSETFROM:-0600
TZOFFSETTO:-0500
TZNAME:CDT
DTSTART:20220313T080000
END:DAYLIGHT
BEGIN:STANDARD
TZOFFSETFROM:-0500
TZOFFSETTO:-0600
TZNAME:CST
DTSTART:20221106T070000
END:STANDARD
BEGIN:DAYLIGHT
TZOFFSETFROM:-0600
TZOFFSETTO:-0500
TZNAME:CDT
DTSTART:20230312T080000
END:DAYLIGHT
BEGIN:STANDARD
TZOFFSETFROM:-0500
TZOFFSETTO:-0600
TZNAME:CST
DTSTART:20231105T070000
END:STANDARD
BEGIN:DAYLIGHT
TZOFFSETFROM:-0600
TZOFFSETTO:-0500
TZNAME:CDT
DTSTART:20240310T080000
END:DAYLIGHT
BEGIN:STANDARD
TZOFFSETFROM:-0500
TZOFFSETTO:-0600
TZNAME:CST
DTSTART:20241103T070000
END:STANDARD
BEGIN:DAYLIGHT
TZOFFSETFROM:-0600
TZOFFSETTO:-0500
TZNAME:CDT
DTSTART:20250309T080000
END:DAYLIGHT
BEGIN:STANDARD
TZOFFSETFROM:-0500
TZOFFSETTO:-0600
TZNAME:CST
DTSTART:20251102T070000
END:STANDARD
END:VTIMEZONE
BEGIN:VEVENT
DTSTART;TZID=America/Chicago:20240710T140000
DTEND;TZID=America/Chicago:20240710T150000
DTSTAMP:20260424T090305
CREATED:20240503T163015Z
LAST-MODIFIED:20240802T202903Z
UID:4161-1720620000-1720623600@www.olneypubliclibrary.org
SUMMARY:July 10th End of Summer Reading Celebration 2pm
DESCRIPTION:
URL:https://www.olneypubliclibrary.org/event/july-10th-end-of-summer-reading-celebration-2pm/
LOCATION:Olney City Park Community Building
CATEGORIES:Event
ATTACH;FMTTYPE=image/jpeg:https://www.olneypubliclibrary.org/wp-content/uploads/2024/05/Read-Renew-repeat-2024-summer-reading.jpg
ORGANIZER;CN="Olney Public Library Staff":MAILTO:director@olneypubliclibrary.org
END:VEVENT
BEGIN:VEVENT
DTSTART;TZID=America/Chicago:20240703T140000
DTEND;TZID=America/Chicago:20240703T150000
DTSTAMP:20260424T090305
CREATED:20240503T162907Z
LAST-MODIFIED:20240503T162907Z
UID:4159-1720015200-1720018800@www.olneypubliclibrary.org
SUMMARY:July 3rd Story Hour - Dinosaur Encounter - Olney Community Building
DESCRIPTION:  \n 
URL:https://www.olneypubliclibrary.org/event/july-3rd-story-hour-dinosaur-encounter-olney-community-building/
LOCATION:Olney City Park Community Building
CATEGORIES:Event
ORGANIZER;CN="Olney Public Library Staff":MAILTO:director@olneypubliclibrary.org
END:VEVENT
BEGIN:VEVENT
DTSTART;TZID=America/Chicago:20240701T080000
DTEND;TZID=America/Chicago:20240712T170000
DTSTAMP:20260424T090305
CREATED:20240715T164237Z
LAST-MODIFIED:20240715T164237Z
UID:4225-1719820800-1720803600@www.olneypubliclibrary.org
SUMMARY:Fall Kids Mall of Richland County
DESCRIPTION:Click to print flyer. \nFKM Flyer 2024 -1 \nYou must complete an online registration form posted at one of the\nfollowing places to receive items: \n● FALL KIDS MALL FACEBOOK PAGE\n● SCHOOL WEBSITES\n● SCHOOL FACEBOOK PAGES\n● OLNEY PUBLIC LIBRARY PAGE \n\nPick up will be August 2-3\, 2024\nTrinity Lutheran Church – Olney\n*You will be notified by text\, phone\, or email after July 17th of your pick up day/time*\nQuestions?\nCall: (618) 869-2297 or email: fallkidsmall@hotmail.com
URL:https://www.olneypubliclibrary.org/event/fall-kids-mall-of-richland-county/
LOCATION:IL
CATEGORIES:Richland County Event
END:VEVENT
BEGIN:VEVENT
DTSTART;TZID=America/Chicago:20240626T140000
DTEND;TZID=America/Chicago:20240626T150000
DTSTAMP:20260424T090305
CREATED:20240503T162436Z
LAST-MODIFIED:20240503T162616Z
UID:4150-1719410400-1719414000@www.olneypubliclibrary.org
SUMMARY:June 26th Story Hour - Ocean of Possibilities by Mad Science
DESCRIPTION:  \n 
URL:https://www.olneypubliclibrary.org/event/june-26th-story-hour-ocean-of-possibilities-by-mad-science/
LOCATION:Olney Public Library\, 400 W Main St.\, Olney\, IL\, 62450\, United States
CATEGORIES:Event
ORGANIZER;CN="Olney Public Library Staff":MAILTO:director@olneypubliclibrary.org
END:VEVENT
BEGIN:VEVENT
DTSTART;TZID=America/Chicago:20240620T160000
DTEND;TZID=America/Chicago:20240620T170000
DTSTAMP:20260424T090305
CREATED:20240617T223217Z
LAST-MODIFIED:20240617T223217Z
UID:4196-1718899200-1718902800@www.olneypubliclibrary.org
SUMMARY:Lego Club Thursday June 20th 4-5pm
DESCRIPTION:
URL:https://www.olneypubliclibrary.org/event/lego-club-thursday-june-20th-4-5pm/
LOCATION:Olney Public Library\, 400 W Main St.\, Olney\, IL\, 62450\, United States
CATEGORIES:Event
ATTACH;FMTTYPE=image/jpeg:https://www.olneypubliclibrary.org/wp-content/uploads/2024/06/legoclubjune2024.jpg
ORGANIZER;CN="Olney Public Library Staff":MAILTO:director@olneypubliclibrary.org
END:VEVENT
BEGIN:VEVENT
DTSTART;TZID=America/Chicago:20240619T140000
DTEND;TZID=America/Chicago:20240619T150000
DTSTAMP:20260424T090305
CREATED:20240503T162342Z
LAST-MODIFIED:20240503T162643Z
UID:4148-1718805600-1718809200@www.olneypubliclibrary.org
SUMMARY:June 19th Story Hour - Absolute Science Butterfly Program
DESCRIPTION:  \nJoin us for story time today at 2pm
URL:https://www.olneypubliclibrary.org/event/june-19th-story-hour-absolute-science-butterfly-program/
LOCATION:Olney Public Library\, 400 W Main St.\, Olney\, IL\, 62450\, United States
CATEGORIES:Event
ORGANIZER;CN="Olney Public Library Staff":MAILTO:director@olneypubliclibrary.org
END:VEVENT
BEGIN:VEVENT
DTSTART;TZID=America/Chicago:20240612T140000
DTEND;TZID=America/Chicago:20240612T150000
DTSTAMP:20260424T090305
CREATED:20240503T162247Z
LAST-MODIFIED:20240503T162707Z
UID:4146-1718200800-1718204400@www.olneypubliclibrary.org
SUMMARY:June 12th Story Hour - Don't disappear by Douglas Hart Nature Center
DESCRIPTION:  \nJoin us for story time today at 2pm
URL:https://www.olneypubliclibrary.org/event/june-12th-story-hour-dont-disappear-by-douglas-hart-nature-center/
LOCATION:Olney Public Library\, 400 W Main St.\, Olney\, IL\, 62450\, United States
CATEGORIES:Event
ORGANIZER;CN="Olney Public Library Staff":MAILTO:director@olneypubliclibrary.org
END:VEVENT
BEGIN:VEVENT
DTSTART;TZID=America/Chicago:20240606T160000
DTEND;TZID=America/Chicago:20240606T180000
DTSTAMP:20260424T090305
CREATED:20240515T211811Z
LAST-MODIFIED:20240515T211811Z
UID:4187-1717689600-1717696800@www.olneypubliclibrary.org
SUMMARY:Teen Game Night June 6th 4-6pm
DESCRIPTION:  \n 
URL:https://www.olneypubliclibrary.org/event/teen-game-night-june-6th-4-6pm/
LOCATION:Olney Public Library\, 400 W Main St.\, Olney\, IL\, 62450\, United States
CATEGORIES:Event
ATTACH;FMTTYPE=image/jpeg:https://www.olneypubliclibrary.org/wp-content/uploads/2024/05/june2024teengamenight.jpg
ORGANIZER;CN="Olney Public Library Staff":MAILTO:director@olneypubliclibrary.org
END:VEVENT
BEGIN:VEVENT
DTSTART;TZID=America/Chicago:20240605T140000
DTEND;TZID=America/Chicago:20240605T150000
DTSTAMP:20260424T090305
CREATED:20240503T162109Z
LAST-MODIFIED:20240503T162109Z
UID:4144-1717596000-1717599600@www.olneypubliclibrary.org
SUMMARY:Summer Reading Fun - Read\, Renew\, Repeat June 5th Story Hour
DESCRIPTION:  \nJoin us for story time today at 2pm
URL:https://www.olneypubliclibrary.org/event/summer-reading-fun-read-renew-repeat-june-5th-story-hour/
LOCATION:Olney Public Library\, 400 W Main St.\, Olney\, IL\, 62450\, United States
CATEGORIES:Event
ORGANIZER;CN="Olney Public Library Staff":MAILTO:director@olneypubliclibrary.org
END:VEVENT
BEGIN:VEVENT
DTSTART;TZID=America/Chicago:20240529T140000
DTEND;TZID=America/Chicago:20240529T150000
DTSTAMP:20260424T090305
CREATED:20240503T161955Z
LAST-MODIFIED:20240503T162731Z
UID:4138-1716991200-1716994800@www.olneypubliclibrary.org
SUMMARY:Summer Reading Fun - Read\, Renew\, Repeat Starts May 29th at 2pm
DESCRIPTION:  \nJoin us for story time today at 2pm
URL:https://www.olneypubliclibrary.org/event/summer-reading-fun-read-renew-repeat-starts-may-29th-at-2pm/
LOCATION:Olney Public Library\, 400 W Main St.\, Olney\, IL\, 62450\, United States
CATEGORIES:Event
ORGANIZER;CN="Olney Public Library Staff":MAILTO:director@olneypubliclibrary.org
END:VEVENT
BEGIN:VEVENT
DTSTART;TZID=America/Chicago:20240523T160000
DTEND;TZID=America/Chicago:20240523T170000
DTSTAMP:20260424T090305
CREATED:20240515T211122Z
LAST-MODIFIED:20240515T211122Z
UID:4178-1716480000-1716483600@www.olneypubliclibrary.org
SUMMARY:Lego Club! May 23rd 4-5pm Age 6-12
DESCRIPTION:  \n 
URL:https://www.olneypubliclibrary.org/event/lego-club-may-23rd/
LOCATION:Olney Public Library\, 400 W Main St.\, Olney\, IL\, 62450\, United States
CATEGORIES:Event
ORGANIZER;CN="Olney Public Library Staff":MAILTO:director@olneypubliclibrary.org
END:VEVENT
BEGIN:VEVENT
DTSTART;TZID=America/Chicago:20240520T170000
DTEND;TZID=America/Chicago:20240520T170000
DTSTAMP:20260424T090305
CREATED:20240225T001345Z
LAST-MODIFIED:20240225T001426Z
UID:4099-1716224400-1716224400@www.olneypubliclibrary.org
SUMMARY:Horticulture Classes - Insect Identification
DESCRIPTION:Join Katie Bell\, a local food systems and small farms educator\, for a series of Horticulture Classes on Monday evenings. \nThe last class will focus on Insect Identification.
URL:https://www.olneypubliclibrary.org/event/horticulture-classes-insect-identification/
LOCATION:IL
CATEGORIES:Event
ATTACH;FMTTYPE=image/jpeg:https://www.olneypubliclibrary.org/wp-content/uploads/2024/02/Horticulture-Classes.jpg
END:VEVENT
BEGIN:VEVENT
DTSTART;TZID=America/Chicago:20240504T120000
DTEND;TZID=America/Chicago:20240504T160000
DTSTAMP:20260424T090305
CREATED:20240503T163818Z
LAST-MODIFIED:20240503T163911Z
UID:4167-1714824000-1714838400@www.olneypubliclibrary.org
SUMMARY:Blood Drive to Help Save Lives. - Saturday May 4th Noon - 4pm
DESCRIPTION:  \n 
URL:https://www.olneypubliclibrary.org/event/blood-drive-to-help-save-lives-saturday-may-4th-noon-4pm/
LOCATION:Olney Public Library\, 400 W Main St.\, Olney\, IL\, 62450\, United States
CATEGORIES:Event
ATTACH;FMTTYPE=image/jpeg:https://www.olneypubliclibrary.org/wp-content/uploads/2024/05/Olney-Public-Library-May-2024.jpg
ORGANIZER;CN="Olney Public Library Staff":MAILTO:director@olneypubliclibrary.org
END:VEVENT
BEGIN:VEVENT
DTSTART;TZID=America/Chicago:20240504T110000
DTEND;TZID=America/Chicago:20240504T160000
DTSTAMP:20260424T090305
CREATED:20240503T163626Z
LAST-MODIFIED:20240503T163626Z
UID:4165-1714820400-1714838400@www.olneypubliclibrary.org
SUMMARY:May 4th - Used Book Sale 11am - 4pm
DESCRIPTION:  \n 
URL:https://www.olneypubliclibrary.org/event/may-4th-used-book-sale-11am-4pm/
LOCATION:Olney Public Library\, 400 W Main St.\, Olney\, IL\, 62450\, United States
CATEGORIES:Event
ATTACH;FMTTYPE=image/jpeg:https://www.olneypubliclibrary.org/wp-content/uploads/2024/05/used-book-sale-2024.jpg
ORGANIZER;CN="Olney Public Library Staff":MAILTO:director@olneypubliclibrary.org
END:VEVENT
BEGIN:VEVENT
DTSTART;TZID=America/Chicago:20240503T130000
DTEND;TZID=America/Chicago:20240503T160000
DTSTAMP:20260424T090305
CREATED:20240503T163234Z
LAST-MODIFIED:20240503T163234Z
UID:4163-1714741200-1714752000@www.olneypubliclibrary.org
SUMMARY:May 3rd - Used Book Sale 1pm - 4pm
DESCRIPTION:  \n 
URL:https://www.olneypubliclibrary.org/event/may-3rd-used-book-sale-1pm-4pm/
LOCATION:Olney Public Library\, 400 W Main St.\, Olney\, IL\, 62450\, United States
CATEGORIES:Event
ATTACH;FMTTYPE=image/jpeg:https://www.olneypubliclibrary.org/wp-content/uploads/2024/05/used-book-sale-2024.jpg
ORGANIZER;CN="Olney Public Library Staff":MAILTO:director@olneypubliclibrary.org
END:VEVENT
BEGIN:VEVENT
DTSTART;TZID=America/Chicago:20240425T170000
DTEND;TZID=America/Chicago:20240425T180000
DTSTAMP:20260424T090305
CREATED:20240405T231244Z
LAST-MODIFIED:20240405T231244Z
UID:4118-1714064400-1714068000@www.olneypubliclibrary.org
SUMMARY:Author Visit: Colleen AF Venable
DESCRIPTION:Join us for a visit from Colleen Venable\, Author of “Katie and the Catsitter” series. Illinois Rebecca Caudill Young Reader’s Award Nominee and Illinois Blue Stem Award Nominee.
URL:https://www.olneypubliclibrary.org/event/author-visit-colleen-af-venable/
LOCATION:Olney Public Library\, 400 W Main St.\, Olney\, IL\, 62450\, United States
CATEGORIES:Event
ATTACH;FMTTYPE=image/jpeg:https://www.olneypubliclibrary.org/wp-content/uploads/2024/04/colleen-venable-visit.jpg
ORGANIZER;CN="Olney Public Library Staff":MAILTO:director@olneypubliclibrary.org
END:VEVENT
BEGIN:VEVENT
DTSTART;TZID=America/Chicago:20240415T170000
DTEND;TZID=America/Chicago:20240415T170000
DTSTAMP:20260424T090305
CREATED:20240225T001225Z
LAST-MODIFIED:20240225T001240Z
UID:4097-1713200400-1713200400@www.olneypubliclibrary.org
SUMMARY:Horticulture Classes - Flowers & Landscaping
DESCRIPTION:Join Katie Bell\, a local food systems and small farms educator\, for a series of Horticulture Classes on Monday evenings. \nThe second class will focus on Flowers and Landscaping Tips.
URL:https://www.olneypubliclibrary.org/event/horticulture-classes-flowers-landscaping/
LOCATION:Olney Public Library\, 400 W Main St.\, Olney\, IL\, 62450\, United States
CATEGORIES:Event
ATTACH;FMTTYPE=image/jpeg:https://www.olneypubliclibrary.org/wp-content/uploads/2024/02/Horticulture-Classes.jpg
ORGANIZER;CN="Olney Public Library Staff":MAILTO:director@olneypubliclibrary.org
END:VEVENT
BEGIN:VEVENT
DTSTART;TZID=America/Chicago:20240410T173000
DTEND;TZID=America/Chicago:20240410T183000
DTSTAMP:20260424T090305
CREATED:20240405T230930Z
LAST-MODIFIED:20240405T231017Z
UID:4115-1712770200-1712773800@www.olneypubliclibrary.org
SUMMARY:Oba William King
DESCRIPTION:Join us! Mark Vaughn\, Master Drummer\, and Oba William King will present African drum rhythms\, poetry\, folktales and stories for all ages – children & parents!
URL:https://www.olneypubliclibrary.org/event/oba-william-king/
LOCATION:Olney Public Library\, 400 W Main St.\, Olney\, IL\, 62450\, United States
CATEGORIES:Event
ATTACH;FMTTYPE=image/jpeg:https://www.olneypubliclibrary.org/wp-content/uploads/2024/04/Oba-William-King.jpg
ORGANIZER;CN="Olney Public Library Staff":MAILTO:director@olneypubliclibrary.org
END:VEVENT
BEGIN:VEVENT
DTSTART;TZID=America/Chicago:20240328T170000
DTEND;TZID=America/Chicago:20240328T170000
DTSTAMP:20260424T090305
CREATED:20240225T000845Z
LAST-MODIFIED:20240225T000845Z
UID:4091-1711645200-1711645200@www.olneypubliclibrary.org
SUMMARY:Solar Eclipse Presentation
DESCRIPTION:Join Professor Rob Mason\, Physics instructor from Olney Central College\, to learn about the significance of the solar eclipse and the science behind the event.
URL:https://www.olneypubliclibrary.org/event/solar-eclipse-presentation/
LOCATION:Olney Public Library\, 400 W Main St.\, Olney\, IL\, 62450\, United States
CATEGORIES:Event
ATTACH;FMTTYPE=image/jpeg:https://www.olneypubliclibrary.org/wp-content/uploads/2024/02/Solar-Eclipse-2024-presentation-flyer.jpg
ORGANIZER;CN="Olney Public Library Staff":MAILTO:director@olneypubliclibrary.org
END:VEVENT
BEGIN:VEVENT
DTSTART;TZID=America/Chicago:20240325T170000
DTEND;TZID=America/Chicago:20240325T170000
DTSTAMP:20260424T090305
CREATED:20240225T001124Z
LAST-MODIFIED:20240225T001124Z
UID:4094-1711386000-1711386000@www.olneypubliclibrary.org
SUMMARY:Horticulture Classes - Gardening & Planting
DESCRIPTION:Join Katie Bell\, a local food systems and small farms educator\, for a series of Horticulture Classes on Monday evenings. \nThe first class will focus on Gardening and Planting Tips.
URL:https://www.olneypubliclibrary.org/event/horticulture-classes-gardening-planting/
LOCATION:Olney Public Library\, 400 W Main St.\, Olney\, IL\, 62450\, United States
CATEGORIES:Event
ATTACH;FMTTYPE=image/jpeg:https://www.olneypubliclibrary.org/wp-content/uploads/2024/02/Horticulture-Classes.jpg
ORGANIZER;CN="Olney Public Library Staff":MAILTO:director@olneypubliclibrary.org
END:VEVENT
BEGIN:VEVENT
DTSTART;TZID=America/Chicago:20240309T130000
DTEND;TZID=America/Chicago:20240309T150000
DTSTAMP:20260424T090305
CREATED:20240206T172056Z
LAST-MODIFIED:20240214T170635Z
UID:4072-1709989200-1709996400@www.olneypubliclibrary.org
SUMMARY:Watercolor Painting Class March 9th 1-3pm
DESCRIPTION:Thank you for your interest in this class. Currently we are closing registration as we have reached the limit of participants. \n  \n  \n  \n 
URL:https://www.olneypubliclibrary.org/event/watercolor-painting-class-march-9th-1-3pm/
LOCATION:Olney Public Library\, 400 W Main St.\, Olney\, IL\, 62450\, United States
CATEGORIES:Event
ORGANIZER;CN="Olney Public Library Staff":MAILTO:director@olneypubliclibrary.org
END:VEVENT
BEGIN:VEVENT
DTSTART;TZID=America/Chicago:20240222T180000
DTEND;TZID=America/Chicago:20240222T190000
DTSTAMP:20260424T090305
CREATED:20240126T205209Z
LAST-MODIFIED:20240126T205209Z
UID:4064-1708624800-1708628400@www.olneypubliclibrary.org
SUMMARY:Feb. 22nd 6pm - A Piece of Wind & Sky
DESCRIPTION: 
URL:https://www.olneypubliclibrary.org/event/feb-22nd-6pm-a-piece-of-wind-sky/
LOCATION:Olney Public Library\, 400 W Main St.\, Olney\, IL\, 62450\, United States
CATEGORIES:Event
ORGANIZER;CN="Olney Public Library Staff":MAILTO:director@olneypubliclibrary.org
END:VEVENT
BEGIN:VEVENT
DTSTART;TZID=America/Chicago:20240214T040000
DTEND;TZID=America/Chicago:20240214T173000
DTSTAMP:20260424T090305
CREATED:20240126T204929Z
LAST-MODIFIED:20240126T210131Z
UID:4062-1707883200-1707931800@www.olneypubliclibrary.org
SUMMARY:Feb. 14th\, Chicken in a cup - Crafts
DESCRIPTION:
URL:https://www.olneypubliclibrary.org/event/feb-14th-chicken-in-a-cup-crafts/
LOCATION:Olney Central College Library 305 NW Street\, 305 North West St\, Olney
CATEGORIES:Central College Library Events,Event
ORGANIZER;CN="Olney Public Library Staff":MAILTO:director@olneypubliclibrary.org
END:VEVENT
BEGIN:VEVENT
DTSTART;TZID=America/Chicago:20231221T160000
DTEND;TZID=America/Chicago:20231221T180000
DTSTAMP:20260424T090305
CREATED:20231207T222301Z
LAST-MODIFIED:20231207T222523Z
UID:4039-1703174400-1703181600@www.olneypubliclibrary.org
SUMMARY:Santa and Reindeer Visit Dec. 21st. 4-6pm
DESCRIPTION:
URL:https://www.olneypubliclibrary.org/event/santa-and-reindeer-visit-dec-21st-4-6pm/
LOCATION:Olney Public Library\, 400 W Main St.\, Olney\, IL\, 62450\, United States
CATEGORIES:Event
ORGANIZER;CN="Olney Public Library Staff":MAILTO:director@olneypubliclibrary.org
END:VEVENT
BEGIN:VEVENT
DTSTART;TZID=America/Chicago:20231216T110000
DTEND;TZID=America/Chicago:20231216T233000
DTSTAMP:20260424T090305
CREATED:20231207T222427Z
LAST-MODIFIED:20231207T222454Z
UID:4041-1702724400-1702769400@www.olneypubliclibrary.org
SUMMARY:Childrens's Story Hour - Susie Bishop Dec. 16th 11am
DESCRIPTION:
URL:https://www.olneypubliclibrary.org/event/childrenss-story-hour-susie-bishop-dec-16th-11am/
LOCATION:Olney Public Library\, 400 W Main St.\, Olney\, IL\, 62450\, United States
CATEGORIES:Event
ORGANIZER;CN="Olney Public Library Staff":MAILTO:director@olneypubliclibrary.org
END:VEVENT
BEGIN:VEVENT
DTSTART;TZID=America/Chicago:20231213T160000
DTEND;TZID=America/Chicago:20231213T170000
DTSTAMP:20260424T090305
CREATED:20231117T162825Z
LAST-MODIFIED:20231120T172641Z
UID:4012-1702483200-1702486800@www.olneypubliclibrary.org
SUMMARY:Sock Puppet! Dec. 13th 4-5pm
DESCRIPTION:  \n\nWhat ignites your child? Here is a chance to allow them to explore and create something new each month\, helping them find their spark. Eight monthly free classes will be held at the Olney Public Library and led by a University of Illinois staff. Classes will begin at 4:00 p.m. and end at 5:00 p.m. Students 2nd grade and older are eligible. Class size is limited so sign up today!\nSock Puppet: In this activity\, we will use our creative side and make sock puppets that we can use to put on a play. This will be held on December 13\, 2023  from 4-5 pm at the Olney Public Library located at 400 West Main St\, Olney\, IL 62450\n\n  \n 
URL:https://www.olneypubliclibrary.org/event/sock-puppet-dec-13th/
LOCATION:Olney Central College Library 305 NW Street\, 305 North West St\, Olney
CATEGORIES:Central College Library Events
ORGANIZER;CN="Olney Public Library Staff":MAILTO:director@olneypubliclibrary.org
END:VEVENT
BEGIN:VEVENT
DTSTART;TZID=America/Chicago:20231120T130000
DTEND;TZID=America/Chicago:20231120T170000
DTSTAMP:20260424T090305
CREATED:20231117T161550Z
LAST-MODIFIED:20231117T161550Z
UID:4006-1700485200-1700499600@www.olneypubliclibrary.org
SUMMARY:Blood Drive Nov. 20th 1pm - 5pm
DESCRIPTION:
URL:https://www.olneypubliclibrary.org/event/blood-drive-nov-20th-1pm-5pm/
LOCATION:Olney Public Library\, 400 W Main St.\, Olney\, IL\, 62450\, United States
CATEGORIES:Event
ORGANIZER;CN="Olney Public Library Staff":MAILTO:director@olneypubliclibrary.org
END:VEVENT
BEGIN:VEVENT
DTSTART;TZID=America/Chicago:20231028T150000
DTEND;TZID=America/Chicago:20231028T170000
DTSTAMP:20260424T090305
CREATED:20231003T233812Z
LAST-MODIFIED:20231003T233812Z
UID:3982-1698505200-1698512400@www.olneypubliclibrary.org
SUMMARY:Trick or Treat our Library Oct. 28th 3pm - 5pm
DESCRIPTION: 
URL:https://www.olneypubliclibrary.org/event/trick-or-treat-our-library-oct-28th-3pm-5pm/
LOCATION:Olney Public Library\, 400 W Main St.\, Olney\, IL\, 62450\, United States
CATEGORIES:Event
ORGANIZER;CN="Olney Public Library Staff":MAILTO:director@olneypubliclibrary.org
END:VEVENT
BEGIN:VEVENT
DTSTART;TZID=America/Chicago:20231025T160000
DTEND;TZID=America/Chicago:20231025T180000
DTSTAMP:20260424T090305
CREATED:20231003T224449Z
LAST-MODIFIED:20231003T224557Z
UID:3972-1698249600-1698256800@www.olneypubliclibrary.org
SUMMARY:Teen Board Game Night Oct. 25th 4-6
DESCRIPTION:  \n 
URL:https://www.olneypubliclibrary.org/event/teen-board-game-night-oct-25th-4-6/
LOCATION:Olney Public Library\, 400 W Main St.\, Olney\, IL\, 62450\, United States
CATEGORIES:Event
ORGANIZER;CN="Olney Public Library Staff":MAILTO:director@olneypubliclibrary.org
END:VEVENT
BEGIN:VEVENT
DTSTART;TZID=America/Chicago:20231011T160000
DTEND;TZID=America/Chicago:20231011T170000
DTSTAMP:20260424T090305
CREATED:20231003T225756Z
LAST-MODIFIED:20231004T162855Z
UID:3980-1697040000-1697043600@www.olneypubliclibrary.org
SUMMARY:Straw Weaving Bracelets Oct. 11th 4pm - 5pm
DESCRIPTION: 
URL:https://www.olneypubliclibrary.org/event/straw-weaving-bracelets-oct-11th/
LOCATION:Olney Public Library\, 400 W Main St.\, Olney\, IL\, 62450\, United States
CATEGORIES:Event
ORGANIZER;CN="Olney Public Library Staff":MAILTO:director@olneypubliclibrary.org
END:VEVENT
END:VCALENDAR